Workbook

Sheet Summary
A1: ILLINOIS DEPARTMENT OF REVENUE | R1: IDORRPT1
A2: COLLECTIONS REMITTED TO THE STATE COMPTROLLER | R2: Printed by the authority of the State of Illinois - web only, 1, 10/2026
A3: FISCAL YEAR 2027 | R3: https://tax.illinois.gov/research/taxstats.html
F5: ALL REVENUE SOURCES
F6: 46234 | G6: 46265 | H6: 46295 | R6: Total
A8: Collections by tax type:
B9: Sales and Use | F9: ='Sales and Use'!F32 -> 2.2091311e+09 | G9: ='Sales and Use'!G32 -> 2.1469622e+09 | H9: ='Sales and Use'!H32 -> 2.1420021e+09 | I9: ='Sales and Use'!I32 -> 0 | J9: ='Sales and Use'!J32 -> 0 | K9: ='Sales and Use'!K32 -> 0 | L9: ='Sales and Use'!L32 -> 0 | M9: ='Sales and Use'!M32 -> 0 | ... Q9: ='Sales and Use'!Q32 -> 0 | R9: =ROUND(SUM(F9:Q9),2) -> 6.4980955e+09
B10: Motor Fuel | F10: ='Motor Fuel'!F17 -> 2.54109e+08 | G10: ='Motor Fuel'!G17 -> 2.6060743e+08 | H10: ='Motor Fuel'!H17 -> 2.5780072e+08 | I10: ='Motor Fuel'!I17 -> 0 | J10: ='Motor Fuel'!J17 -> 0 | K10: ='Motor Fuel'!K17 -> 0 | L10: ='Motor Fuel'!L17 -> 0 | M10: ='Motor Fuel'!M17 -> 0 | ... Q10: ='Motor Fuel'!Q17 -> 0 | R10: =ROUND(SUM(F10:Q10),2) -> 7.7251715e+08
B11: Cigarette | F11: =Cigarette!F16 -> 72309532 | G11: =Cigarette!G16 -> 59663304 | H11: =Cigarette!H16 -> 68981267 | I11: =Cigarette!I16 -> 0 | J11: =Cigarette!J16 -> 0 | K11: =Cigarette!K16 -> 0 | L11: =Cigarette!L16 -> 0 | M11: =Cigarette!M16 -> 0 | ... Q11: =Cigarette!Q16 -> 0 | R11: =ROUND(SUM(F11:Q11),2) -> 2.009541e+08
B12: Senior Citizen Deferral | F12: ='Senior Citizen'!F11 -> 383684.46 | G12: ='Senior Citizen'!G11 -> 478327.52 | H12: ='Senior Citizen'!H11 -> 538518.62 | I12: ='Senior Citizen'!I11 -> 0 | J12: ='Senior Citizen'!J11 -> 0 | K12: ='Senior Citizen'!K11 -> 0 | L12: ='Senior Citizen'!L11 -> 0 | M12: ='Senior Citizen'!M11 -> 0 | ... Q12: ='Senior Citizen'!Q11 -> 0 | R12: =ROUND(SUM(F12:Q12),2) -> 1400530.6
B13: Liquor | F13: =Liquor!F13 -> 29101875 | G13: =Liquor!G13 -> 24806922 | H13: =Liquor!H13 -> 24196400 | I13: =Liquor!I13 -> 0 | J13: =Liquor!J13 -> 0 | K13: =Liquor!K13 -> 0 | L13: =Liquor!L13 -> 0 | M13: =Liquor!M13 -> 0 | ... Q13: =Liquor!Q13 -> 0 | R13: =ROUND(SUM(F13:Q13),2) -> 78105197
B14: Public Utility | F14: ='Public Utility'!F23 -> 95153316 | G14: ='Public Utility'!G23 -> 99462660 | H14: ='Public Utility'!H23 -> 1.7193436e+08 | I14: ='Public Utility'!I23 -> 0 | J14: ='Public Utility'!J23 -> 0 | K14: ='Public Utility'!K23 -> 0 | L14: ='Public Utility'!L23 -> 0 | M14: ='Public Utility'!M23 -> 0 | ... Q14: ='Public Utility'!Q23 -> 0 | R14: =ROUND(SUM(F14:Q14),2) -> 3.6655034e+08
B15: Hotel | F15: =Hotel!F11 -> 72777038 | G15: =Hotel!G11 -> 68040997 | H15: =Hotel!H11 -> 67558385 | I15: =Hotel!I11 -> 0 | J15: =Hotel!J11 -> 0 | K15: =Hotel!K11 -> 0 | L15: =Hotel!L11 -> 0 | M15: =Hotel!M11 -> 0 | ... Q15: =Hotel!Q11 -> 0 | R15: =ROUND(SUM(F15:Q15),2) -> 2.0837642e+08
B16: Real Estate Transfer | F16: ='Real Estate Transfer'!F12 -> 12215641 | G16: ='Real Estate Transfer'!G12 -> 13519014 | H16: ='Real Estate Transfer'!H12 -> 11591163 | I16: ='Real Estate Transfer'!I12 -> 0 | J16: ='Real Estate Transfer'!J12 -> 0 | K16: ='Real Estate Transfer'!K12 -> 0 | L16: ='Real Estate Transfer'!L12 -> 0 | M16: ='Real Estate Transfer'!M12 -> 0 | ... Q16: ='Real Estate Transfer'!Q12 -> 0 | R16: =ROUND(SUM(F16:Q16),2) -> 37325818
B17: Charity Gaming | F17: ='Charity Gaming'!F24 -> 1229617.3 | G17: ='Charity Gaming'!G24 -> 155992.71 | H17: ='Charity Gaming'!H24 -> 86498.54 | I17: ='Charity Gaming'!I24 -> 0 | J17: ='Charity Gaming'!J24 -> 0 | K17: ='Charity Gaming'!K24 -> 0 | L17: ='Charity Gaming'!L24 -> 0 | M17: ='Charity Gaming'!M24 -> 0 | ... Q17: ='Charity Gaming'!Q24 -> 0 | R17: =ROUND(SUM(F17:Q17),2) -> 1472108.6
B18: Private Vehicle Use | F18: ='Private Vehicle Use'!F11 -> 5717726.6 | G18: ='Private Vehicle Use'!G11 -> 8283415.2 | H18: ='Private Vehicle Use'!H11 -> 9308178.6 | I18: ='Private Vehicle Use'!I11 -> 0 | J18: ='Private Vehicle Use'!J11 -> 0 | K18: ='Private Vehicle Use'!K11 -> 0 | L18: ='Private Vehicle Use'!L11 -> 0 | M18: ='Private Vehicle Use'!M11 -> 0 | ... Q18: ='Private Vehicle Use'!Q11 -> 0 | R18: =ROUND(SUM(F18:Q18),2) -> 23309320
B19: General Office / Misc. | F19: ='General Office'!F15 -> 4151970.9 | G19: ='General Office'!G15 -> 8362544.7 | H19: ='General Office'!H15 -> 19055624 | I19: ='General Office'!I15 -> 0 | J19: ='General Office'!J15 -> 0 | K19: ='General Office'!K15 -> 0 | L19: ='General Office'!L15 -> 0 | M19: ='General Office'!M15 -> 0 | ... Q19: ='General Office'!Q15 -> 0 | R19: =ROUND(SUM(F19:Q19),2) -> 31570140
B20: Business Income | F20: ='Business Income'!F19 -> 5.2414539e+08 | G20: ='Business Income'!G19 -> 1.7345528e+08 | H20: ='Business Income'!H19 -> 2.8175942e+09 | I20: ='Business Income'!I19 -> 0 | J20: ='Business Income'!J19 -> 0 | K20: ='Business Income'!K19 -> 0 | L20: ='Business Income'!L19 -> 0 | M20: ='Business Income'!M19 -> 0 | ... Q20: ='Business Income'!Q19 -> 0 | R20: =ROUND(SUM(F20:Q20),2) -> 3.5151948e+09
B21: Individual Income | F21: ='Individual Income'!F15 -> 2.1432783e+09 | G21: ='Individual Income'!G15 -> 1.928978e+09 | H21: ='Individual Income'!H15 -> 2.6683203e+09 | I21: ='Individual Income'!I15 -> 0 | J21: ='Individual Income'!J15 -> 0 | K21: ='Individual Income'!K15 -> 0 | L21: ='Individual Income'!L15 -> 0 | M21: ='Individual Income'!M15 -> 0 | ... Q21: ='Individual Income'!Q15 -> 0 | R21: =ROUND(SUM(F21:Q21),2) -> 6.7405765e+09
B22: Automobile Renting | F22: ='Automobile Renting'!F11 -> 11476593 | G22: ='Automobile Renting'!G11 -> 12517090 | H22: ='Automobile Renting'!H11 -> 11580735 | I22: ='Automobile Renting'!I11 -> 0 | J22: ='Automobile Renting'!J11 -> 0 | K22: ='Automobile Renting'!K11 -> 0 | L22: ='Automobile Renting'!L11 -> 0 | M22: ='Automobile Renting'!M11 -> 0 | ... Q22: ='Automobile Renting'!Q11 -> 0 | R22: =ROUND(SUM(F22:Q22),2) -> 35574419
B23: Live Adult Entertainment | F23: ='Live Adult'!F11 -> 2415.14 | G23: ='Live Adult'!G11 -> 2415.14 | H23: ='Live Adult'!H11 -> 2415.14 | I23: ='Live Adult'!I11 -> 0 | J23: ='Live Adult'!J11 -> 0 | K23: ='Live Adult'!K11 -> 0 | L23: ='Live Adult'!L11 -> 0 | M23: ='Live Adult'!M11 -> 0 | ... Q23: ='Live Adult'!Q11 -> 0 | R23: =ROUND(SUM(F23:Q23),2) -> 7245.42
B24: Adult Use Cannabis | F24: =Cannabis!F12 -> 45750883 | G24: =Cannabis!G12 -> 42785290 | H24: =Cannabis!H12 -> 39188111 | I24: =Cannabis!I12 -> 0 | J24: =Cannabis!J12 -> 0 | K24: =Cannabis!K12 -> 0 | L24: =Cannabis!L12 -> 0 | M24: =Cannabis!M12 -> 0 | ... Q24: =Cannabis!Q12 -> 0 | R24: =ROUND(SUM(F24:Q24),2) -> 1.2772428e+08
F25: =ROUND(SUM(F9:F24),2) -> 5.4809341e+09 | G25: =ROUND(SUM(G9:G24),2) -> 4.8480809e+09 | H25: =ROUND(SUM(H9:H24),2) -> 8.3097389e+09 | I25: =ROUND(SUM(I9:I24),2) -> 0 | J25: =ROUND(SUM(J9:J24),2) -> 0 | K25: =ROUND(SUM(K9:K24),2) -> 0 | L25: =ROUND(SUM(L9:L24),2) -> 0 | M25: =ROUND(SUM(M9:M24),2) -> 0 | ... R25: =ROUND(SUM(R9:R24),2) -> 1.8638754e+10
A27: Collections deposited into State
B28: Treasury and in-transit to State
B29: Comptroller at month end:
C30: Current month | F30: =ROUND('Sales and Use'!F37+'Motor Fuel'!F22+Cigarette!F21+'Senior Citizen'!F16+Liquor!F18+'Public Utility'!F28+Hotel!F16+'Real Estate Transfer'!F17+'Charity Gaming'!F29+'Private Vehicle Use'!F16+'General Office'!F20+'Business Income'!F24+'Individual Income'!F20+'Automobile Renting'!F16+'Live Adult'!F16+Cannabis!F17,2) -> 6.1477661e+08 | G30: =ROUND('Sales and Use'!G37+'Motor Fuel'!G22+Cigarette!G21+'Senior Citizen'!G16+Liquor!G18+'Public Utility'!G28+Hotel!G16+'Real Estate Transfer'!G17+'Charity Gaming'!G29+'Private Vehicle Use'!G16+'General Office'!G20+'Business Income'!G24+'Individual Income'!G20+'Automobile Renting'!G16+'Live Adult'!G16+Cannabis!G17,2) -> 5.4598695e+08 | H30: =ROUND('Sales and Use'!H37+'Motor Fuel'!H22+Cigarette!H21+'Senior Citizen'!H16+Liquor!H18+'Public Utility'!H28+Hotel!H16+'Real Estate Transfer'!H17+'Charity Gaming'!H29+'Private Vehicle Use'!H16+'General Office'!H20+'Business Income'!H24+'Individual Income'!H20+'Automobile Renting'!H16+'Live Adult'!H16+Cannabis!H17,2) -> 6.3683439e+08 | I30: =ROUND('Sales and Use'!I37+'Motor Fuel'!I22+Cigarette!I21+'Senior Citizen'!I16+Liquor!I18+'Public Utility'!I28+Hotel!I16+'Real Estate Transfer'!I17+'Charity Gaming'!I29+'Private Vehicle Use'!I16+'General Office'!I20+'Business Income'!I24+'Individual Income'!I20+'Automobile Renting'!I16+'Live Adult'!I16+Cannabis!I17,2) -> 0 | J30: =ROUND('Sales and Use'!J37+'Motor Fuel'!J22+Cigarette!J21+'Senior Citizen'!J16+Liquor!J18+'Public Utility'!J28+Hotel!J16+'Real Estate Transfer'!J17+'Charity Gaming'!J29+'Private Vehicle Use'!J16+'General Office'!J20+'Business Income'!J24+'Individual Income'!J20+'Automobile Renting'!J16+'Live Adult'!J16+Cannabis!J17,2) -> 0 | K30: =ROUND('Sales and Use'!K37+'Motor Fuel'!K22+Cigarette!K21+'Senior Citizen'!K16+Liquor!K18+'Public Utility'!K28+Hotel!K16+'Real Estate Transfer'!K17+'Charity Gaming'!K29+'Private Vehicle Use'!K16+'General Office'!K20+'Business Income'!K24+'Individual Income'!K20+'Automobile Renting'!K16+'Live Adult'!K16+Cannabis!K17,2) -> 0 | L30: =ROUND('Sales and Use'!L37+'Motor Fuel'!L22+Cigarette!L21+'Senior Citizen'!L16+Liquor!L18+'Public Utility'!L28+Hotel!L16+'Real Estate Transfer'!L17+'Charity Gaming'!L29+'Private Vehicle Use'!L16+'General Office'!L20+'Business Income'!L24+'Individual Income'!L20+'Automobile Renting'!L16+'Live Adult'!L16+Cannabis!L17,2) -> 0 | M30: =ROUND('Sales and Use'!M37+'Motor Fuel'!M22+Cigarette!M21+'Senior Citizen'!M16+Liquor!M18+'Public Utility'!M28+Hotel!M16+'Real Estate Transfer'!M17+'Charity Gaming'!M29+'Private Vehicle Use'!M16+'General Office'!M20+'Business Income'!M24+'Individual Income'!M20+'Automobile Renting'!M16+'Live Adult'!M16+Cannabis!M17,2) -> 0 | ... Q30: =ROUND('Sales and Use'!Q37+'Motor Fuel'!Q22+Cigarette!Q21+'Senior Citizen'!Q16+Liquor!Q18+'Public Utility'!Q28+Hotel!Q16+'Real Estate Transfer'!Q17+'Charity Gaming'!Q29+'Private Vehicle Use'!Q16+'General Office'!Q20+'Business Income'!Q24+'Individual Income'!Q20+'Automobile Renting'!Q16+'Live Adult'!Q16+Cannabis!Q17,2) -> 0 | R30: =IF(ISNA(LOOKUP(2,1/(F6:Q6<>""),F30:Q30)),0,LOOKUP(2,1/(F6:Q6<>""),F30:Q30)) -> 6.3683439e+08
C31: Prior month | F31: =ROUND('Sales and Use'!F38+'Motor Fuel'!F23+Cigarette!F22+'Senior Citizen'!F17+Liquor!F19+'Public Utility'!F29+Hotel!F17+'Real Estate Transfer'!F18+'Charity Gaming'!F30+'Private Vehicle Use'!F17+'General Office'!F21+'Business Income'!F25+'Individual Income'!F21+'Automobile Renting'!F17+'Live Adult'!F17+Cannabis!F18,2) -> 5.3045991e+08 | G31: =IF(G6="",0,F30) -> 6.1477661e+08 | H31: =IF(H6="",0,G30) -> 5.4598695e+08 | I31: =IF(I6="",0,H30) -> 0 | J31: =IF(J6="",0,I30) -> 0 | K31: =IF(K6="",0,J30) -> 0 | L31: =IF(L6="",0,K30) -> 0 | M31: =IF(M6="",0,L30) -> 0 | N31: =IF(N6="",0,M30) -> 0 | ... Q31: =IF(Q6="",0,P30) -> 0 | R31: =F31 -> 5.3045991e+08
C32: Net change | F32: =ROUND(F30-F31,2) -> 84316697 | G32: =ROUND(G30-G31,2) -> -68789661 | H32: =ROUND(H30-H31,2) -> 90847444 | I32: =ROUND(I30-I31,2) -> 0 | J32: =ROUND(J30-J31,2) -> 0 | K32: =ROUND(K30-K31,2) -> 0 | L32: =ROUND(L30-L31,2) -> 0 | M32: =ROUND(M30-M31,2) -> 0 | ... R32: =ROUND(R30-R31,2) -> 1.0637448e+08
A34: Comptroller fund receipts:
B35: Sales and Use | F35: ='Sales and Use'!F94 -> 2.219454e+09 | G35: ='Sales and Use'!G94 -> 2.1248046e+09 | H35: ='Sales and Use'!H94 -> 2.1654174e+09 | I35: ='Sales and Use'!I94 -> 0 | J35: ='Sales and Use'!J94 -> 0 | K35: ='Sales and Use'!K94 -> 0 | L35: ='Sales and Use'!L94 -> 0 | M35: ='Sales and Use'!M94 -> 0 | ... Q35: ='Sales and Use'!Q94 -> 0 | R35: =ROUND(SUM(F35:Q35),2) -> 6.5096761e+09
B36: Motor Fuel | F36: ='Motor Fuel'!F36 -> 2.4889473e+08 | G36: ='Motor Fuel'!G36 -> 2.6550597e+08 | H36: ='Motor Fuel'!H36 -> 2.5822436e+08 | I36: ='Motor Fuel'!I36 -> 0 | J36: ='Motor Fuel'!J36 -> 0 | K36: ='Motor Fuel'!K36 -> 0 | L36: ='Motor Fuel'!L36 -> 0 | M36: ='Motor Fuel'!M36 -> 0 | ... Q36: ='Motor Fuel'!Q36 -> 0 | R36: =ROUND(SUM(F36:Q36),2) -> 7.7262505e+08
B37: Cigarette | F37: =Cigarette!F39 -> 74244778 | G37: =Cigarette!G39 -> 63416422 | H37: =Cigarette!H39 -> 59435251 | I37: =Cigarette!I39 -> 0 | J37: =Cigarette!J39 -> 0 | K37: =Cigarette!K39 -> 0 | L37: =Cigarette!L39 -> 0 | M37: =Cigarette!M39 -> 0 | ... Q37: =Cigarette!Q39 -> 0 | R37: =ROUND(SUM(F37:Q37),2) -> 1.9709645e+08
B38: Senior Citizen Deferral | F38: ='Senior Citizen'!F23 -> 445858.38 | G38: ='Senior Citizen'!G23 -> 452370.59 | H38: ='Senior Citizen'!H23 -> 437198.65 | I38: ='Senior Citizen'!I23 -> 0 | J38: ='Senior Citizen'!J23 -> 0 | K38: ='Senior Citizen'!K23 -> 0 | L38: ='Senior Citizen'!L23 -> 0 | M38: ='Senior Citizen'!M23 -> 0 | ... Q38: ='Senior Citizen'!Q23 -> 0 | R38: =ROUND(SUM(F38:Q38),2) -> 1335427.6
B39: Liquor | F39: =Liquor!F26 -> 29077437 | G39: =Liquor!G26 -> 24804002 | H39: =Liquor!H26 -> 24241400 | I39: =Liquor!I26 -> 0 | J39: =Liquor!J26 -> 0 | K39: =Liquor!K26 -> 0 | L39: =Liquor!L26 -> 0 | M39: =Liquor!M26 -> 0 | ... Q39: =Liquor!Q26 -> 0 | R39: =ROUND(SUM(F39:Q39),2) -> 78122839
B40: Public Utility | F40: ='Public Utility'!F52 -> 95541886 | G40: ='Public Utility'!G52 -> 99937376 | H40: ='Public Utility'!H52 -> 1.7259876e+08 | I40: ='Public Utility'!I52 -> 0 | J40: ='Public Utility'!J52 -> 0 | K40: ='Public Utility'!K52 -> 0 | L40: ='Public Utility'!L52 -> 0 | M40: ='Public Utility'!M52 -> 0 | ... Q40: ='Public Utility'!Q52 -> 0 | R40: =ROUND(SUM(F40:Q40),2) -> 3.6807802e+08
B41: Hotel | F41: =Hotel!F34 -> 78986418 | G41: =Hotel!G34 -> 65754458 | H41: =Hotel!H34 -> 71917703 | I41: =Hotel!I34 -> 0 | J41: =Hotel!J34 -> 0 | K41: =Hotel!K34 -> 0 | L41: =Hotel!L34 -> 0 | M41: =Hotel!M34 -> 0 | ... Q41: =Hotel!Q34 -> 0 | R41: =ROUND(SUM(F41:Q41),2) -> 2.1665858e+08
B42: Real Estate Transfer | F42: ='Real Estate Transfer'!F28 -> 12214377 | G42: ='Real Estate Transfer'!G28 -> 13522438 | H42: ='Real Estate Transfer'!H28 -> 11534844 | I42: ='Real Estate Transfer'!I28 -> 0 | J42: ='Real Estate Transfer'!J28 -> 0 | K42: ='Real Estate Transfer'!K28 -> 0 | L42: ='Real Estate Transfer'!L28 -> 0 | M42: ='Real Estate Transfer'!M28 -> 0 | ... Q42: ='Real Estate Transfer'!Q28 -> 0 | R42: =ROUND(SUM(F42:Q42),2) -> 37271658
B43: Charity Gaming | F43: ='Charity Gaming'!F45 -> 1024445.8 | G43: ='Charity Gaming'!G45 -> 406771.93 | H43: ='Charity Gaming'!H45 -> 110365.26 | I43: ='Charity Gaming'!I45 -> 0 | J43: ='Charity Gaming'!J45 -> 0 | K43: ='Charity Gaming'!K45 -> 0 | L43: ='Charity Gaming'!L45 -> 0 | M43: ='Charity Gaming'!M45 -> 0 | ... Q43: ='Charity Gaming'!Q45 -> 0 | R43: =ROUND(SUM(F43:Q43),2) -> 1541583
B44: Private Vehicle Use | F44: ='Private Vehicle Use'!F26 -> 4905552.1 | G44: ='Private Vehicle Use'!G26 -> 6848664.2 | H44: ='Private Vehicle Use'!H26 -> 10197930 | I44: ='Private Vehicle Use'!I26 -> 0 | J44: ='Private Vehicle Use'!J26 -> 0 | K44: ='Private Vehicle Use'!K26 -> 0 | L44: ='Private Vehicle Use'!L26 -> 0 | M44: ='Private Vehicle Use'!M26 -> 0 | ... Q44: ='Private Vehicle Use'!Q26 -> 0 | R44: =ROUND(SUM(F44:Q44),2) -> 21952146
...

Sheet Sales and Use
A1: ILLINOIS DEPARTMENT OF REVENUE | R1: =Summary!$R$1 -> IDORRPT1
A2: COLLECTIONS REMITTED TO THE STATE COMPTROLLER | R2: =Summary!$R$2 -> Printed by the authority of the State of Illinois - web only, 1, 10/2026
A3: =IF(ISBLANK(Summary!A3),"",Summary!A3) -> FISCAL YEAR 2027 | R3: =Summary!$R$3 -> https://tax.illinois.gov/research/taxstats.html
F5: SALES AND USE
F6: =IF(ISBLANK(Summary!F6),"",Summary!F6) -> 46234 | G6: =IF(ISBLANK(Summary!G6),"",Summary!G6) -> 46265 | H6: =IF(ISBLANK(Summary!H6),"",Summary!H6) -> 46295 | I6: =IF(ISBLANK(Summary!I6),"",Summary!I6) | J6: =IF(ISBLANK(Summary!J6),"",Summary!J6) | K6: =IF(ISBLANK(Summary!K6),"",Summary!K6) | L6: =IF(ISBLANK(Summary!L6),"",Summary!L6) | M6: =IF(ISBLANK(Summary!M6),"",Summary!M6) | ... Q6: =IF(ISBLANK(Summary!Q6),"",Summary!Q6) | R6: Total
A8: Collections by voucher type:
B9: Assessments | F9: 32064309 | G9: 44835449 | H9: 28112820 | I9: 0 | J9: 0 | K9: 0 | L9: 0 | M9: 0 | N9: 0 | O9: 0 | P9: 0 | Q9: 0 | R9: =ROUND(SUM(F9:Q9),2) -> 1.0501258e+08
B10: CMFT-1 County Motor Fuel Tax | F10: 7780181.8 | G10: 8775982.5 | H10: 8720517.9 | I10: 0 | J10: 0 | K10: 0 | L10: 0 | M10: 0 | N10: 0 | O10: 0 | P10: 0 | Q10: 0 | R10: =ROUND(SUM(F10:Q10),2) -> 25276682
B11: DS-1 Dry-Cleaning Tax | F11: 17579.24 | G11: 150 | H11: 0 | I11: 0 | J11: 0 | K11: 0 | L11: 0 | M11: 0 | N11: 0 | O11: 0 | P11: 0 | Q11: 0 | R11: =ROUND(SUM(F11:Q11),2) -> 17729.24
B12: DS-3 Dry-Cleaning Fee | F12: 4500 | G12: 2250 | H12: 0 | I12: 0 | J12: 0 | K12: 0 | L12: 0 | M12: 0 | N12: 0 | O12: 0 | P12: 0 | Q12: 0 | R12: =ROUND(SUM(F12:Q12),2) -> 6750
B13: LSE-1 Vehicle Leasing Tax | F13: 63871.76 | G13: 127012 | H13: 71476.44 | I13: 0 | J13: 0 | K13: 0 | L13: 0 | M13: 0 | N13: 0 | O13: 0 | P13: 0 | Q13: 0 | R13: =ROUND(SUM(F13:Q13),2) -> 262360.2
B14: MC-1 Medical Cannabis Tax | F14: 887462.65 | G14: 970651.68 | H14: 832849.93 | I14: 0 | J14: 0 | K14: 0 | L14: 0 | M14: 0 | N14: 0 | O14: 0 | P14: 0 | Q14: 0 | R14: =ROUND(SUM(F14:Q14),2) -> 2690964.3
B15: MMFT-1 Municipal Motor Fuel Tax | F15: 601052.66 | G15: 636687.35 | H15: 638462.12 | I15: 0 | J15: 0 | K15: 0 | L15: 0 | M15: 0 | N15: 0 | O15: 0 | P15: 0 | Q15: 0 | R15: =ROUND(SUM(F15:Q15),2) -> 1876202.1
B16: PE-100 Parking Excise Tax | F16: 4434131.3 | G16: 4588997 | H16: 5125812.1 | I16: 0 | J16: 0 | K16: 0 | L16: 0 | M16: 0 | N16: 0 | O16: 0 | P16: 0 | Q16: 0 | R16: =ROUND(SUM(F16:Q16),2) -> 14148940
B17: PST-1 Prepaid Sales Tax | F17: 5776001.7 | G17: 5518739.7 | H17: 6692526.4 | I17: 0 | J17: 0 | K17: 0 | L17: 0 | M17: 0 | N17: 0 | O17: 0 | P17: 0 | Q17: 0 | R17: =ROUND(SUM(F17:Q17),2) -> 17987268
B18: PST-3 Prepaid Sales Tax | F18: 24673957 | G18: 27948792 | H18: 24759310 | I18: 0 | J18: 0 | K18: 0 | L18: 0 | M18: 0 | N18: 0 | O18: 0 | P18: 0 | Q18: 0 | R18: =ROUND(SUM(F18:Q18),2) -> 77382060
B19: RR-3 Sales and Use Quarter Monthly Tax | F19: 8.402445e+08 | G19: 841112840 | H19: 8.356812e+08 | I19: 0 | J19: 0 | K19: 0 | L19: 0 | M19: 0 | N19: 0 | O19: 0 | P19: 0 | Q19: 0 | R19: =ROUND(SUM(F19:Q19),2) -> 2.5170385e+09
B20: RUT-25 Vehicle Use Tax | F20: 27619288 | G20: 20769582 | H20: 21307564 | I20: 0 | J20: 0 | K20: 0 | L20: 0 | M20: 0 | N20: 0 | O20: 0 | P20: 0 | Q20: 0 | R20: =ROUND(SUM(F20:Q20),2) -> 69696433
... B31: ST-8 Tire User Fee | F31: 4205127.2 | G31: 59649.5 | H31: 27252.62 | I31: 0 | J31: 0 | K31: 0 | L31: 0 | M31: 0 | N31: 0 | O31: 0 | P31: 0 | Q31: 0 | R31: =ROUND(SUM(F31:Q31),2) -> 4292029.4
F32: =ROUND(SUM(F9:F31),2) -> 2.2091311e+09 | G32: =ROUND(SUM(G9:G31),2) -> 2.1469622e+09 | H32: =ROUND(SUM(H9:H31),2) -> 2.1420021e+09 | I32: =ROUND(SUM(I9:I31),2) -> 0 | J32: =ROUND(SUM(J9:J31),2) -> 0 | K32: =ROUND(SUM(K9:K31),2) -> 0 | L32: =ROUND(SUM(L9:L31),2) -> 0 | M32: =ROUND(SUM(M9:M31),2) -> 0 | ... R32: =ROUND(SUM(R9:R31),2) -> 6.4980955e+09
A34: Collections deposited into State
B35: Treasury and in-transit to State
B36: Comptroller at month end:
C37: Current month | F37: 2.0327e+08 | G37: 2.2542758e+08 | H37: 2.0201228e+08 | I37: 0 | J37: 0 | K37: 0 | L37: 0 | M37: 0 | N37: 0 | O37: 0 | P37: 0 | Q37: 0 | R37: {=IF(ISNA(LOOKUP(2,1/(F6:Q6<>""),F37:Q37)),0,LOOKUP(2,1/(F6:Q6<>""),F37:Q37))} -> 2.0201228e+08
C38: Prior month | F38: 2.1359285e+08 | G38: =IF(G6="",0,F37) -> 2.0327e+08 | H38: =IF(H6="",0,G37) -> 2.2542758e+08 | I38: =IF(I6="",0,H37) -> 0 | J38: =IF(J6="",0,I37) -> 0 | K38: =IF(K6="",0,J37) -> 0 | L38: =IF(L6="",0,K37) -> 0 | M38: =IF(M6="",0,L37) -> 0 | N38: =IF(N6="",0,M37) -> 0 | ... Q38: =IF(Q6="",0,P37) -> 0 | R38: =F38 -> 2.1359285e+08
C39: Net change | F39: =ROUND(F37-F38,2) -> -10322849 | G39: =ROUND(G37-G38,2) -> 22157587 | H39: =ROUND(H37-H38,2) -> -23415300 | I39: =ROUND(I37-I38,2) -> 0 | J39: =ROUND(J37-J38,2) -> 0 | K39: =ROUND(K37-K38,2) -> 0 | L39: =ROUND(L37-L38,2) -> 0 | M39: =ROUND(M37-M38,2) -> 0 | ... R39: =ROUND(R37-R38,2) -> -11580562
A41: Comptroller fund receipts:
C42: Rev Src | D42: Fund
C43: 0071 | D43: 0190 | F43: 7655941.8 | G43: 8677607.2 | H43: 8588665.1 | I43: 0 | J43: 0 | K43: 0 | L43: 0 | M43: 0 | N43: 0 | O43: 0 | P43: 0 | Q43: 0 | R43: =ROUND(SUM(F43:Q43),2) -> 24922214
C44: 0313 | D44: 0841 | F44: 6603152.8 | G44: 6138428.9 | H44: 6077959.3 | I44: 0 | J44: 0 | K44: 0 | L44: 0 | M44: 0 | N44: 0 | O44: 0 | P44: 0 | Q44: 0 | R44: =ROUND(SUM(F44:Q44),2) -> 18819541
C45: 0410 | D45: 0812 | F45: 1.959222e+08 | G45: 1.9778084e+08 | H45: 1.9168171e+08 | I45: 0 | J45: 0 | K45: 0 | L45: 0 | M45: 0 | N45: 0 | O45: 0 | P45: 0 | Q45: 0 | R45: =ROUND(SUM(F45:Q45),2) -> 5.8538474e+08
C46: 0474 | D46: 0138 | F46: 1.7894815e+08 | G46: 1.7580363e+08 | H46: 1.8413981e+08 | I46: 0 | J46: 0 | K46: 0 | L46: 0 | M46: 0 | N46: 0 | O46: 0 | P46: 0 | Q46: 0 | R46: =ROUND(SUM(F46:Q46),2) -> 5.3889159e+08
C47: 0475 | D47: 0337 | F47: 7313836 | G47: 6787330.9 | H47: 6648491.9 | I47: 0 | J47: 0 | K47: 0 | L47: 0 | M47: 0 | N47: 0 | O47: 0 | P47: 0 | Q47: 0 | R47: =ROUND(SUM(F47:Q47),2) -> 20749659
C48: 0476 | D48: 0139 | F48: 1.3053539e+08 | G48: 1.0978386e+08 | H48: 1.3878564e+08 | I48: 0 | J48: 0 | K48: 0 | L48: 0 | M48: 0 | N48: 0 | O48: 0 | P48: 0 | Q48: 0 | R48: =ROUND(SUM(F48:Q48),2) -> 3.7910489e+08
C49: 0477 | D49: 0088 | F49: 32885565 | G49: 32602942 | H49: 33445748 | I49: 0 | J49: 0 | K49: 0 | L49: 0 | M49: 0 | N49: 0 | O49: 0 | P49: 0 | Q49: 0 | R49: =ROUND(SUM(F49:Q49),2) -> 98934256
C50: 0481 | D50: 0001 | F50: 7.8774971e+08 | G50: 7.4728521e+08 | H50: 7.2779906e+08 | I50: 0 | J50: 0 | K50: 0 | L50: 0 | M50: 0 | N50: 0 | O50: 0 | P50: 0 | Q50: 0 | R50: =ROUND(SUM(F50:Q50),2) -> 2.262834e+09
C51: 0481 | D51: 0011 | F51: 0 | G51: 0 | H51: 0 | I51: 0 | J51: 0 | K51: 0 | L51: 0 | M51: 0 | N51: 0 | O51: 0 | P51: 0 | Q51: 0 | R51: =ROUND(SUM(F51:Q51),2) -> 0
C52: 0481 | D52: 0152 | F52: 500000 | G52: 500000 | H52: 500000 | I52: 0 | J52: 0 | K52: 0 | L52: 0 | M52: 0 | N52: 0 | O52: 0 | P52: 0 | Q52: 0 | R52: =ROUND(SUM(F52:Q52),2) -> 1500000
C53: 0481 | D53: 0186 | F53: 13110030 | G53: 8360489.3 | H53: 3473762.3 | I53: 0 | J53: 0 | K53: 0 | L53: 0 | M53: 0 | N53: 0 | O53: 0 | P53: 0 | Q53: 0 | R53: =ROUND(SUM(F53:Q53),2) -> 24944282
C54: 0481 | D54: 0188 | F54: 58002102 | G54: 56939625 | H54: 58697714 | I54: 0 | J54: 0 | K54: 0 | L54: 0 | M54: 0 | N54: 0 | O54: 0 | P54: 0 | Q54: 0 | R54: =ROUND(SUM(F54:Q54),2) -> 1.7363944e+08
...

Sheet Motor Fuel
A1: ILLINOIS DEPARTMENT OF REVENUE | R1: =Summary!$R$1 -> IDORRPT1
A2: COLLECTIONS REMITTED TO THE STATE COMPTROLLER | R2: =Summary!$R$2 -> Printed by the authority of the State of Illinois - web only, 1, 10/2026
A3: =IF(ISBLANK(Summary!A3),"",Summary!A3) -> FISCAL YEAR 2027 | R3: =Summary!$R$3 -> https://tax.illinois.gov/research/taxstats.html
F5: MOTOR FUEL
F6: =IF(ISBLANK(Summary!F6),"",Summary!F6) -> 46234 | G6: =IF(ISBLANK(Summary!G6),"",Summary!G6) -> 46265 | H6: =IF(ISBLANK(Summary!H6),"",Summary!H6) -> 46295 | I6: =IF(ISBLANK(Summary!I6),"",Summary!I6) | J6: =IF(ISBLANK(Summary!J6),"",Summary!J6) | K6: =IF(ISBLANK(Summary!K6),"",Summary!K6) | L6: =IF(ISBLANK(Summary!L6),"",Summary!L6) | M6: =IF(ISBLANK(Summary!M6),"",Summary!M6) | ... Q6: =IF(ISBLANK(Summary!Q6),"",Summary!Q6) | R6: Total
A8: Collections by voucher type:
B9: Assessments | F9: 456794.38 | G9: 776735.09 | H9: 127274.4 | I9: 0 | J9: 0 | K9: 0 | L9: 0 | M9: 0 | N9: 0 | O9: 0 | P9: 0 | Q9: 0 | R9: =ROUND(SUM(F9:Q9),2) -> 1360803.9
B10: IFTA Application | F10: 43092.21 | G10: 29629.29 | H10: 28071.44 | I10: 0 | J10: 0 | K10: 0 | L10: 0 | M10: 0 | N10: 0 | O10: 0 | P10: 0 | Q10: 0 | R10: =ROUND(SUM(F10:Q10),2) -> 100792.94
B11: IFTA Return | F11: 10229605 | G11: 7565078.5 | H11: 385185.59 | I11: 0 | J11: 0 | K11: 0 | L11: 0 | M11: 0 | N11: 0 | O11: 0 | P11: 0 | Q11: 0 | R11: =ROUND(SUM(F11:Q11),2) -> 18179869
B12: IFTA Transmittals | F12: 350104.94 | G12: 695237.77 | H12: 9753163.2 | I12: 0 | J12: 0 | K12: 0 | L12: 0 | M12: 0 | N12: 0 | O12: 0 | P12: 0 | Q12: 0 | R12: =ROUND(SUM(F12:Q12),2) -> 10798506
B13: RMFT-144 Alt Fuels Tax | F13: 569267.32 | G13: 551892.88 | H13: 536181.64 | I13: 0 | J13: 0 | K13: 0 | L13: 0 | M13: 0 | N13: 0 | O13: 0 | P13: 0 | Q13: 0 | R13: =ROUND(SUM(F13:Q13),2) -> 1657341.8
B14: RMFT-5 Motor Fuel Tax | F14: 2.3694849e+08 | G14: 2.4523868e+08 | H14: 2.4130966e+08 | I14: 0 | J14: 0 | K14: 0 | L14: 0 | M14: 0 | N14: 0 | O14: 0 | P14: 0 | Q14: 0 | R14: =ROUND(SUM(F14:Q14),2) -> 7.2349682e+08
B15: RMFT-5-US UST Tax | F15: 5489053.8 | G15: 5729059.1 | H15: 5636830 | I15: 0 | J15: 0 | K15: 0 | L15: 0 | M15: 0 | N15: 0 | O15: 0 | P15: 0 | Q15: 0 | R15: =ROUND(SUM(F15:Q15),2) -> 16854943
B16: Single Trip Permit | F16: 22600 | G16: 21120 | H16: 24360 | I16: 0 | J16: 0 | K16: 0 | L16: 0 | M16: 0 | N16: 0 | O16: 0 | P16: 0 | Q16: 0 | R16: =ROUND(SUM(F16:Q16),2) -> 68080
F17: =ROUND(SUM(F9:F16),2) -> 2.54109e+08 | G17: =ROUND(SUM(G9:G16),2) -> 2.6060743e+08 | H17: =ROUND(SUM(H9:H16),2) -> 2.5780072e+08 | I17: =ROUND(SUM(I9:I16),2) -> 0 | J17: =ROUND(SUM(J9:J16),2) -> 0 | K17: =ROUND(SUM(K9:K16),2) -> 0 | L17: =ROUND(SUM(L9:L16),2) -> 0 | M17: =ROUND(SUM(M9:M16),2) -> 0 | ... R17: =ROUND(SUM(R9:R16),2) -> 7.7251715e+08
A19: Collections deposited into State
B20: Treasury and in-transit to State
B21: Comptroller at month end:
C22: Current month | F22: 5360271.7 | G22: 461734.35 | H22: 38099.66 | I22: 0 | J22: 0 | K22: 0 | L22: 0 | M22: 0 | N22: 0 | O22: 0 | P22: 0 | Q22: 0 | R22: =IF(ISNA(LOOKUP(2,1/(F6:Q6<>""),F22:Q22)),0,LOOKUP(2,1/(F6:Q6<>""),F22:Q22)) -> 38099.66
C23: Prior month | F23: 145994.57 | G23: =IF(G6="",0,F22) -> 5360271.7 | H23: =IF(H6="",0,G22) -> 461734.35 | I23: =IF(I6="",0,H22) -> 0 | J23: =IF(J6="",0,I22) -> 0 | K23: =IF(K6="",0,J22) -> 0 | L23: =IF(L6="",0,K22) -> 0 | M23: =IF(M6="",0,L22) -> 0 | N23: =IF(N6="",0,M22) -> 0 | ... Q23: =IF(Q6="",0,P22) -> 0 | R23: =F23 -> 145994.57
C24: Net change | F24: =ROUND(F22-F23,2) -> 5214277.1 | G24: =ROUND(G22-G23,2) -> -4898537.3 | H24: =ROUND(H22-H23,2) -> -423634.69 | I24: =ROUND(I22-I23,2) -> 0 | J24: =ROUND(J22-J23,2) -> 0 | K24: =ROUND(K22-K23,2) -> 0 | L24: =ROUND(L22-L23,2) -> 0 | M24: =ROUND(M22-M23,2) -> 0 | ... R24: =ROUND(R22-R23,2) -> -107894.91
A26: Comptroller fund receipts:
C27: Rev Src | D27: Fund
C28: 0317 | D28: 0012 | F28: 98854581 | G28: 1.0210638e+08 | H28: 98659669 | I28: 0 | J28: 0 | K28: 0 | L28: 0 | M28: 0 | N28: 0 | O28: 0 | P28: 0 | Q28: 0 | R28: =ROUND(SUM(F28:Q28),2) -> 2.9962063e+08
C29: 0317 | D29: 0952 | F29: 1.3858345e+08 | G29: 1.4461658e+08 | H29: 1.4326456e+08 | I29: 0 | J29: 0 | K29: 0 | L29: 0 | M29: 0 | N29: 0 | O29: 0 | P29: 0 | Q29: 0 | R29: =ROUND(SUM(F29:Q29),2) -> 4.2646458e+08
C30: 0318 | D30: 0012 | F30: 2801613.9 | G30: 6154462.9 | H30: 5015070.3 | I30: 0 | J30: 0 | K30: 0 | L30: 0 | M30: 0 | N30: 0 | O30: 0 | P30: 0 | Q30: 0 | R30: =ROUND(SUM(F30:Q30),2) -> 13971147
C31: 0318 | D31: 0952 | F31: 3097633.5 | G31: 6804745.8 | H31: 5544964.6 | I31: 0 | J31: 0 | K31: 0 | L31: 0 | M31: 0 | N31: 0 | O31: 0 | P31: 0 | Q31: 0 | R31: =ROUND(SUM(F31:Q31),2) -> 15447344
C32: 0319 | D32: 0012 | F32: 23200 | G32: 20520 | H32: 22960 | I32: 0 | J32: 0 | K32: 0 | L32: 0 | M32: 0 | N32: 0 | O32: 0 | P32: 0 | Q32: 0 | R32: =ROUND(SUM(F32:Q32),2) -> 66680
C33: 0322 | D33: 0072 | F33: 5488214.5 | G33: 5752599.5 | H33: 5686410.9 | I33: 0 | J33: 0 | K33: 0 | L33: 0 | M33: 0 | N33: 0 | O33: 0 | P33: 0 | Q33: 0 | R33: =ROUND(SUM(F33:Q33),2) -> 16927225
C34: 0984 | D34: 0012 | F34: 40347.25 | G34: 33418.03 | H34: 26217.94 | I34: 0 | J34: 0 | K34: 0 | L34: 0 | M34: 0 | N34: 0 | O34: 0 | P34: 0 | Q34: 0 | R34: =ROUND(SUM(F34:Q34),2) -> 99983.22
C35: 1590 | D35: 0384 | F35: 5688.32 | G35: 17260.79 | H35: 4508.65 | I35: 0 | J35: 0 | K35: 0 | L35: 0 | M35: 0 | N35: 0 | O35: 0 | P35: 0 | Q35: 0 | R35: =ROUND(SUM(F35:Q35),2) -> 27457.76
F36: =ROUND(SUM(F28:F35),2) -> 2.4889473e+08 | G36: =ROUND(SUM(G28:G35),2) -> 2.6550597e+08 | H36: =ROUND(SUM(H28:H35),2) -> 2.5822436e+08 | I36: =ROUND(SUM(I28:I35),2) -> 0 | J36: =ROUND(SUM(J28:J35),2) -> 0 | K36: =ROUND(SUM(K28:K35),2) -> 0 | L36: =ROUND(SUM(L28:L35),2) -> 0 | M36: =ROUND(SUM(M28:M35),2) -> 0 | ... R36: =ROUND(SUM(R28:R35),2) -> 7.7262505e+08
A39: Collections reconciled to receipts | F39: =ROUND(F17-F24-F36,2) -> 0 | G39: =ROUND(G17-G24-G36,2) -> 0 | H39: =ROUND(H17-H24-H36,2) -> 0 | I39: =ROUND(I17-I24-I36,2) -> 0 | J39: =ROUND(J17-J24-J36,2) -> 0 | K39: =ROUND(K17-K24-K36,2) -> 0 | L39: =ROUND(L17-L24-L36,2) -> 0 | M39: =ROUND(M17-M24-M36,2) -> 0 | ... R39: =ROUND(R17-R24-R36,2) -> 0
A42: Additional Information:
A43: Taxpayers remit their payments to the Department using prescribed payment vouchers. The monies collected are deposited into bank accounts held in the custody of the State Treasurer’s Office. The amounts showing in the “Collections by voucher type” section above reflect the payments received from taxpayers. The monies collected are then receipted into State funds maintained by the State Comptroller’s Office. The fund receipts are reflected in the section titled “Comptroller fund receipts.” Additional information regarding fund receipts can be found on the Comptroller’s website at https://illinoiscomptroller.gov/. The allocation of specific monies to specific funds is governed by various tax acts. The line “Collections reconciled to receipts” demonstrates that all money collected by the Department from taxpayers is ultimately receipted into State funds. Variances between collections and receipts are due to timing differences related to changes in the amount of deposits in-transit to the State Comptroller at month end. This information is provided in the section titled “Collections deposited into State Treasury and in-transit to State Comptroller at month end.” Information regarding the taxes imposed, rates, form/filing requirements, payment requirements, and statutory authority can be found in the Tax Information section of the Department’s website at https://tax.illinois.gov/research/taxinformation.html.

Sheet Cigarette
A1: ILLINOIS DEPARTMENT OF REVENUE | R1: =Summary!$R$1 -> IDORRPT1
A2: COLLECTIONS REMITTED TO THE STATE COMPTROLLER | R2: =Summary!$R$2 -> Printed by the authority of the State of Illinois - web only, 1, 10/2026
A3: =IF(ISBLANK(Summary!A3),"",Summary!A3) -> FISCAL YEAR 2027 | R3: =Summary!$R$3 -> https://tax.illinois.gov/research/taxstats.html
F5: CIGARETTE
F6: =IF(ISBLANK(Summary!F6),"",Summary!F6) -> 46234 | G6: =IF(ISBLANK(Summary!G6),"",Summary!G6) -> 46265 | H6: =IF(ISBLANK(Summary!H6),"",Summary!H6) -> 46295 | I6: =IF(ISBLANK(Summary!I6),"",Summary!I6) | J6: =IF(ISBLANK(Summary!J6),"",Summary!J6) | K6: =IF(ISBLANK(Summary!K6),"",Summary!K6) | L6: =IF(ISBLANK(Summary!L6),"",Summary!L6) | M6: =IF(ISBLANK(Summary!M6),"",Summary!M6) | ... Q6: =IF(ISBLANK(Summary!Q6),"",Summary!Q6) | R6: Total
A8: Collections by voucher type:
B9: Assessments | F9: 138221.51 | G9: 302293.05 | H9: 159559.55 | I9: 0 | J9: 0 | K9: 0 | L9: 0 | M9: 0 | N9: 0 | O9: 0 | P9: 0 | Q9: 0 | R9: =ROUND(SUM(F9:Q9),2) -> 600074.11
B10: License Fee | F10: 0 | G10: 0 | H10: 0 | I10: 0 | J10: 0 | K10: 0 | L10: 0 | M10: 0 | N10: 0 | O10: 0 | P10: 0 | Q10: 0 | R10: =ROUND(SUM(F10:Q10),2) -> 0
B11: RC-1-A Cigarette Stamps | F11: 55895773 | G11: 42305304 | H11: 54039820 | I11: 0 | J11: 0 | K11: 0 | L11: 0 | M11: 0 | N11: 0 | O11: 0 | P11: 0 | Q11: 0 | R11: =ROUND(SUM(F11:Q11),2) -> 1.522409e+08
B12: RC-44 Cigarette Use Tax | F12: 35760 | G12: 1254.4 | H12: 0 | I12: 0 | J12: 0 | K12: 0 | L12: 0 | M12: 0 | N12: 0 | O12: 0 | P12: 0 | Q12: 0 | R12: =ROUND(SUM(F12:Q12),2) -> 37014.4
B13: RC-55 Little Cigar Tax | F13: 18636.6 | G13: 23643.99 | H13: 18874.18 | I13: 0 | J13: 0 | K13: 0 | L13: 0 | M13: 0 | N13: 0 | O13: 0 | P13: 0 | Q13: 0 | R13: =ROUND(SUM(F13:Q13),2) -> 61154.77
B14: Retailer Fee | F14: 52650 | G14: 46725 | H14: 40875 | I14: 0 | J14: 0 | K14: 0 | L14: 0 | M14: 0 | N14: 0 | O14: 0 | P14: 0 | Q14: 0 | R14: =ROUND(SUM(F14:Q14),2) -> 140250
B15: TP-1 Tobacco Products Tax | F15: 16168490 | G15: 16984083 | H15: 14722138 | I15: 0 | J15: 0 | K15: 0 | L15: 0 | M15: 0 | N15: 0 | O15: 0 | P15: 0 | Q15: 0 | R15: =ROUND(SUM(F15:Q15),2) -> 47874712
F16: =ROUND(SUM(F9:F15),2) -> 72309532 | G16: =ROUND(SUM(G9:G15),2) -> 59663304 | H16: =ROUND(SUM(H9:H15),2) -> 68981267 | I16: =ROUND(SUM(I9:I15),2) -> 0 | J16: =ROUND(SUM(J9:J15),2) -> 0 | K16: =ROUND(SUM(K9:K15),2) -> 0 | L16: =ROUND(SUM(L9:L15),2) -> 0 | M16: =ROUND(SUM(M9:M15),2) -> 0 | ... R16: =ROUND(SUM(R9:R15),2) -> 2.009541e+08
A18: Collections deposited into State
B19: Treasury and in-transit to State
B20: Comptroller at month end:
C21: Current month | F21: 8331783.4 | G21: 4578665.4 | H21: 14124682 | I21: 0 | J21: 0 | K21: 0 | L21: 0 | M21: 0 | N21: 0 | O21: 0 | P21: 0 | Q21: 0 | R21: =IF(ISNA(LOOKUP(2,1/(F6:Q6<>""),F21:Q21)),0,LOOKUP(2,1/(F6:Q6<>""),F21:Q21)) -> 14124682
C22: Prior month | F22: 10267030 | G22: =IF(G6="",0,F21) -> 8331783.4 | H22: =IF(H6="",0,G21) -> 4578665.4 | I22: =IF(I6="",0,H21) -> 0 | J22: =IF(J6="",0,I21) -> 0 | K22: =IF(K6="",0,J21) -> 0 | L22: =IF(L6="",0,K21) -> 0 | M22: =IF(M6="",0,L21) -> 0 | N22: =IF(N6="",0,M21) -> 0 | ... Q22: =IF(Q6="",0,P21) -> 0 | R22: =F22 -> 10267030
C23: Net change | F23: =ROUND(F21-F22,2) -> -1935246.3 | G23: =ROUND(G21-G22,2) -> -3753118 | H23: =ROUND(H21-H22,2) -> 9546016.2 | I23: =ROUND(I21-I22,2) -> 0 | J23: =ROUND(J21-J22,2) -> 0 | K23: =ROUND(K21-K22,2) -> 0 | L23: =ROUND(L21-L22,2) -> 0 | M23: =ROUND(M21-M22,2) -> 0 | ... R23: =ROUND(R21-R22,2) -> 3857651.8
A25: Comptroller fund receipts:
C26: Rev Src | D26: Fund
C27: 0049 | D27: 0001 | F27: 7546451.7 | G27: 6527828 | H27: 6737765.4 | I27: 0 | J27: 0 | K27: 0 | L27: 0 | M27: 0 | N27: 0 | O27: 0 | P27: 0 | Q27: 0 | R27: =ROUND(SUM(F27:Q27),2) -> 20812045
C28: 0049 | D28: 0384 | F28: 51825 | G28: 50062.98 | H28: 43275 | I28: 0 | J28: 0 | K28: 0 | L28: 0 | M28: 0 | N28: 0 | O28: 0 | P28: 0 | Q28: 0 | R28: =ROUND(SUM(F28:Q28),2) -> 145162.98
C29: 0049 | D29: 0412 | F29: 2113006.5 | G29: 1827791.9 | H29: 1886574.3 | I29: 0 | J29: 0 | K29: 0 | L29: 0 | M29: 0 | N29: 0 | O29: 0 | P29: 0 | Q29: 0 | R29: =ROUND(SUM(F29:Q29),2) -> 5827372.7
C30: 0049 | D30: 0694 | F30: 10263174 | G30: 8877846.2 | H30: 9163361 | I30: 0 | J30: 0 | K30: 0 | L30: 0 | M30: 0 | N30: 0 | O30: 0 | P30: 0 | Q30: 0 | R30: =ROUND(SUM(F30:Q30),2) -> 28304381
C31: 0049 | D31: 0793 | F31: 10263174 | G31: 8877846.1 | H31: 9163361 | I31: 0 | J31: 0 | K31: 0 | L31: 0 | M31: 0 | N31: 0 | O31: 0 | P31: 0 | Q31: 0 | R31: =ROUND(SUM(F31:Q31),2) -> 28304381
C32: 0050 | D32: 0001 | F32: 6921043 | G32: 5056273.6 | H32: 4336374.5 | I32: 0 | J32: 0 | K32: 0 | L32: 0 | M32: 0 | N32: 0 | O32: 0 | P32: 0 | Q32: 0 | R32: =ROUND(SUM(F32:Q32),2) -> 16313691
C33: 0050 | D33: 0412 | F33: 1937892 | G33: 1415756.6 | H33: 1214184.9 | I33: 0 | J33: 0 | K33: 0 | L33: 0 | M33: 0 | N33: 0 | O33: 0 | P33: 0 | Q33: 0 | R33: =ROUND(SUM(F33:Q33),2) -> 4567833.5
C34: 0050 | D34: 0694 | F34: 9412618.4 | G34: 6876532.1 | H34: 5897469.3 | I34: 0 | J34: 0 | K34: 0 | L34: 0 | M34: 0 | N34: 0 | O34: 0 | P34: 0 | Q34: 0 | R34: =ROUND(SUM(F34:Q34),2) -> 22186620
C35: 0050 | D35: 0793 | F35: 9412618.4 | G35: 6876532.1 | H35: 5897469.3 | I35: 0 | J35: 0 | K35: 0 | L35: 0 | M35: 0 | N35: 0 | O35: 0 | P35: 0 | Q35: 0 | R35: =ROUND(SUM(F35:Q35),2) -> 22186620
C36: 0051 | D36: 0345 | F36: 5661487.2 | G36: 8514976.1 | H36: 7547708 | I36: 0 | J36: 0 | K36: 0 | L36: 0 | M36: 0 | N36: 0 | O36: 0 | P36: 0 | Q36: 0 | R36: =ROUND(SUM(F36:Q36),2) -> 21724171
C37: 0051 | D37: 0733 | F37: 5000000 | G37: 0 | H37: 0 | I37: 0 | J37: 0 | K37: 0 | L37: 0 | M37: 0 | N37: 0 | O37: 0 | P37: 0 | Q37: 0 | R37: =ROUND(SUM(F37:Q37),2) -> 5000000
C38: 0051 | D38: 0793 | F38: 5661487.2 | G38: 8514976.1 | H38: 7547708 | I38: 0 | J38: 0 | K38: 0 | L38: 0 | M38: 0 | N38: 0 | O38: 0 | P38: 0 | Q38: 0 | R38: =ROUND(SUM(F38:Q38),2) -> 21724171
F39: =ROUND(SUM(F27:F38),2) -> 74244778 | G39: =ROUND(SUM(G27:G38),2) -> 63416422 | H39: =ROUND(SUM(H27:H38),2) -> 59435251 | I39: =ROUND(SUM(I27:I38),2) -> 0 | J39: =ROUND(SUM(J27:J38),2) -> 0 | K39: =ROUND(SUM(K27:K38),2) -> 0 | L39: =ROUND(SUM(L27:L38),2) -> 0 | M39: =ROUND(SUM(M27:M38),2) -> 0 | ... R39: =ROUND(SUM(R27:R38),2) -> 1.9709645e+08
A42: Collections reconciled to receipts | F42: =ROUND(F16-F23-F39,2) -> 0 | G42: =ROUND(G16-G23-G39,2) -> 0 | H42: =ROUND(H16-H23-H39,2) -> 0 | I42: =ROUND(I16-I23-I39,2) -> 0 | J42: =ROUND(J16-J23-J39,2) -> 0 | K42: =ROUND(K16-K23-K39,2) -> 0 | L42: =ROUND(L16-L23-L39,2) -> 0 | M42: =ROUND(M16-M23-M39,2) -> 0 | ... R42: =ROUND(R16-R23-R39,2) -> 0
A45: Additional Information:
A46: Taxpayers remit their payments to the Department using prescribed payment vouchers. The monies collected are deposited into bank accounts held in the custody of the State Treasurer’s Office. The amounts showing in the “Collections by voucher type” section above reflect the payments received from taxpayers. The monies collected are then receipted into State funds maintained by the State Comptroller’s Office. The fund receipts are reflected in the section titled “Comptroller fund receipts.” Additional information regarding fund receipts can be found on the Comptroller’s website at https://illinoiscomptroller.gov/. The allocation of specific monies to specific funds is governed by various tax acts. The line “Collections reconciled to receipts” demonstrates that all money collected by the Department from taxpayers is ultimately receipted into State funds. Variances between collections and receipts are due to timing differences related to changes in the amount of deposits in-transit to the State Comptroller at month end. This information is provided in the section titled “Collections deposited into State Treasury and in-transit to State Comptroller at month end.” Information regarding the taxes imposed, rates, form/filing requirements, payment requirements, and statutory authority can be found in the Tax Information section of the Department’s website at https://tax.illinois.gov/research/taxinformation.html.

Sheet Senior Citizen
A1: ILLINOIS DEPARTMENT OF REVENUE | R1: =Summary!$R$1 -> IDORRPT1
A2: COLLECTIONS REMITTED TO THE STATE COMPTROLLER | R2: =Summary!$R$2 -> Printed by the authority of the State of Illinois - web only, 1, 10/2026
A3: =IF(ISBLANK(Summary!A3),"",Summary!A3) -> FISCAL YEAR 2027 | R3: =Summary!$R$3 -> https://tax.illinois.gov/research/taxstats.html
F5: SENIOR CITIZEN DEFERRAL PROGRAM
F6: =IF(ISBLANK(Summary!F6),"",Summary!F6) -> 46234 | G6: =IF(ISBLANK(Summary!G6),"",Summary!G6) -> 46265 | H6: =IF(ISBLANK(Summary!H6),"",Summary!H6) -> 46295 | I6: =IF(ISBLANK(Summary!I6),"",Summary!I6) | J6: =IF(ISBLANK(Summary!J6),"",Summary!J6) | K6: =IF(ISBLANK(Summary!K6),"",Summary!K6) | L6: =IF(ISBLANK(Summary!L6),"",Summary!L6) | M6: =IF(ISBLANK(Summary!M6),"",Summary!M6) | ... Q6: =IF(ISBLANK(Summary!Q6),"",Summary!Q6) | R6: Total
A8: Collections by voucher type:
B9: Assessments | F9: 0 | G9: 0 | H9: 49855.87 | I9: 0 | J9: 0 | K9: 0 | L9: 0 | M9: 0 | N9: 0 | O9: 0 | P9: 0 | Q9: 0 | R9: =ROUND(SUM(F9:Q9),2) -> 49855.87
B10: Senior Citizen Deferral | F10: 383684.46 | G10: 478327.52 | H10: 488662.75 | I10: 0 | J10: 0 | K10: 0 | L10: 0 | M10: 0 | N10: 0 | O10: 0 | P10: 0 | Q10: 0 | R10: =ROUND(SUM(F10:Q10),2) -> 1350674.7
F11: =ROUND(SUM(F9:F10),2) -> 383684.46 | G11: =ROUND(SUM(G9:G10),2) -> 478327.52 | H11: =ROUND(SUM(H9:H10),2) -> 538518.62 | I11: =ROUND(SUM(I9:I10),2) -> 0 | J11: =ROUND(SUM(J9:J10),2) -> 0 | K11: =ROUND(SUM(K9:K10),2) -> 0 | L11: =ROUND(SUM(L9:L10),2) -> 0 | M11: =ROUND(SUM(M9:M10),2) -> 0 | ... R11: =ROUND(SUM(R9:R10),2) -> 1400530.6
A13: Collections deposited into State
B14: Treasury and in-transit to State
B15: Comptroller at month end:
C16: Current month | F16: 134490.6 | G16: 160447.53 | H16: 261767.5 | I16: 0 | J16: 0 | K16: 0 | L16: 0 | M16: 0 | N16: 0 | O16: 0 | P16: 0 | Q16: 0 | R16: =IF(ISNA(LOOKUP(2,1/(F6:Q6<>""),F16:Q16)),0,LOOKUP(2,1/(F6:Q6<>""),F16:Q16)) -> 261767.5
C17: Prior month | F17: 196664.52 | G17: =IF(G6="",0,F16) -> 134490.6 | H17: =IF(H6="",0,G16) -> 160447.53 | I17: =IF(I6="",0,H16) -> 0 | J17: =IF(J6="",0,I16) -> 0 | K17: =IF(K6="",0,J16) -> 0 | L17: =IF(L6="",0,K16) -> 0 | M17: =IF(M6="",0,L16) -> 0 | N17: =IF(N6="",0,M16) -> 0 | ... Q17: =IF(Q6="",0,P16) -> 0 | R17: =F17 -> 196664.52
C18: Net change | F18: =ROUND(F16-F17,2) -> -62173.92 | G18: =ROUND(G16-G17,2) -> 25956.93 | H18: =ROUND(H16-H17,2) -> 101319.97 | I18: =ROUND(I16-I17,2) -> 0 | J18: =ROUND(J16-J17,2) -> 0 | K18: =ROUND(K16-K17,2) -> 0 | L18: =ROUND(L16-L17,2) -> 0 | M18: =ROUND(M16-M17,2) -> 0 | ... R18: =ROUND(R16-R17,2) -> 65102.98
A20: Comptroller fund receipts:
C21: Rev Src | D21: Fund
C22: 0073 | D22: 0930 | F22: 445858.38 | G22: 452370.59 | H22: 437198.65 | I22: 0 | J22: 0 | K22: 0 | L22: 0 | M22: 0 | N22: 0 | O22: 0 | P22: 0 | Q22: 0 | R22: =ROUND(SUM(F22:Q22),2) -> 1335427.6
F23: =ROUND(SUM(F22:F22),2) -> 445858.38 | G23: =ROUND(SUM(G22:G22),2) -> 452370.59 | H23: =ROUND(SUM(H22:H22),2) -> 437198.65 | I23: =ROUND(SUM(I22:I22),2) -> 0 | J23: =ROUND(SUM(J22:J22),2) -> 0 | K23: =ROUND(SUM(K22:K22),2) -> 0 | L23: =ROUND(SUM(L22:L22),2) -> 0 | M23: =ROUND(SUM(M22:M22),2) -> 0 | ... R23: =ROUND(SUM(R22:R22),2) -> 1335427.6
A26: Collections reconciled to receipts | F26: =ROUND(F11-F18-F23,2) -> 0 | G26: =ROUND(G11-G18-G23,2) -> 0 | H26: =ROUND(H11-H18-H23,2) -> 0 | I26: =ROUND(I11-I18-I23,2) -> 0 | J26: =ROUND(J11-J18-J23,2) -> 0 | K26: =ROUND(K11-K18-K23,2) -> 0 | L26: =ROUND(L11-L18-L23,2) -> 0 | M26: =ROUND(M11-M18-M23,2) -> 0 | ... R26: =ROUND(R11-R18-R23,2) -> 0
A29: Additional Information:
A30: Taxpayers remit their payments to the Department using prescribed payment vouchers. The monies collected are deposited into bank accounts held in the custody of the State Treasurer’s Office. The amounts showing in the “Collections by voucher type” section above reflect the payments received from taxpayers. The monies collected are then receipted into State funds maintained by the State Comptroller’s Office. The fund receipts are reflected in the section titled “Comptroller fund receipts.” Additional information regarding fund receipts can be found on the Comptroller’s website at https://illinoiscomptroller.gov/. The allocation of specific monies to specific funds is governed by various tax acts. The line “Collections reconciled to receipts” demonstrates that all money collected by the Department from taxpayers is ultimately receipted into State funds. Variances between collections and receipts are due to timing differences related to changes in the amount of deposits in-transit to the State Comptroller at month end. This information is provided in the section titled “Collections deposited into State Treasury and in-transit to State Comptroller at month end.” Information regarding the taxes imposed, rates, form/filing requirements, payment requirements, and statutory authority can be found in the Tax Information section of the Department’s website at https://tax.illinois.gov/research/taxinformation.html.

Sheet Liquor
A1: ILLINOIS DEPARTMENT OF REVENUE | R1: =Summary!$R$1 -> IDORRPT1
A2: COLLECTIONS REMITTED TO THE STATE COMPTROLLER | R2: =Summary!$R$2 -> Printed by the authority of the State of Illinois - web only, 1, 10/2026
A3: =IF(ISBLANK(Summary!A3),"",Summary!A3) -> FISCAL YEAR 2027 | R3: =Summary!$R$3 -> https://tax.illinois.gov/research/taxstats.html
F5: LIQUOR
F6: =IF(ISBLANK(Summary!F6),"",Summary!F6) -> 46234 | G6: =IF(ISBLANK(Summary!G6),"",Summary!G6) -> 46265 | H6: =IF(ISBLANK(Summary!H6),"",Summary!H6) -> 46295 | I6: =IF(ISBLANK(Summary!I6),"",Summary!I6) | J6: =IF(ISBLANK(Summary!J6),"",Summary!J6) | K6: =IF(ISBLANK(Summary!K6),"",Summary!K6) | L6: =IF(ISBLANK(Summary!L6),"",Summary!L6) | M6: =IF(ISBLANK(Summary!M6),"",Summary!M6) | ... Q6: =IF(ISBLANK(Summary!Q6),"",Summary!Q6) | R6: Total
A8: Collections by voucher type:
B9: Assessments | F9: 81075.83 | G9: 74009.29 | H9: 73310.89 | I9: 0 | J9: 0 | K9: 0 | L9: 0 | M9: 0 | N9: 0 | O9: 0 | P9: 0 | Q9: 0 | R9: =ROUND(SUM(F9:Q9),2) -> 228396.01
B10: RL-26 Liquor Tax | F10: 28951068 | G10: 24695032 | H10: 24074620 | I10: 0 | J10: 0 | K10: 0 | L10: 0 | M10: 0 | N10: 0 | O10: 0 | P10: 0 | Q10: 0 | R10: =ROUND(SUM(F10:Q10),2) -> 77720721
B11: RL-26-A Liquor Tax (Airline) | F11: 10482.07 | G11: 7959.68 | H11: 8541.5 | I11: 0 | J11: 0 | K11: 0 | L11: 0 | M11: 0 | N11: 0 | O11: 0 | P11: 0 | Q11: 0 | R11: =ROUND(SUM(F11:Q11),2) -> 26983.25
B12: RL-26-W Liquor Tax (Wine) | F12: 59249.08 | G12: 29920.44 | H12: 39926.99 | I12: 0 | J12: 0 | K12: 0 | L12: 0 | M12: 0 | N12: 0 | O12: 0 | P12: 0 | Q12: 0 | R12: =ROUND(SUM(F12:Q12),2) -> 129096.51
F13: =ROUND(SUM(F9:F12),2) -> 29101875 | G13: =ROUND(SUM(G9:G12),2) -> 24806922 | H13: =ROUND(SUM(H9:H12),2) -> 24196400 | I13: =ROUND(SUM(I9:I12),2) -> 0 | J13: =ROUND(SUM(J9:J12),2) -> 0 | K13: =ROUND(SUM(K9:K12),2) -> 0 | L13: =ROUND(SUM(L9:L12),2) -> 0 | M13: =ROUND(SUM(M9:M12),2) -> 0 | ... R13: =ROUND(SUM(R9:R12),2) -> 78105197
A15: Collections deposited into State
B16: Treasury and in-transit to State
B17: Comptroller at month end:
C18: Current month | F18: 139608.11 | G18: 142527.94 | H18: 97528.06 | I18: 0 | J18: 0 | K18: 0 | L18: 0 | M18: 0 | N18: 0 | O18: 0 | P18: 0 | Q18: 0 | R18: =IF(ISNA(LOOKUP(2,1/(F6:Q6<>""),F18:Q18)),0,LOOKUP(2,1/(F6:Q6<>""),F18:Q18)) -> 97528.06
C19: Prior month | F19: 115170.08 | G19: =IF(G6="",0,F18) -> 139608.11 | H19: =IF(H6="",0,G18) -> 142527.94 | I19: =IF(I6="",0,H18) -> 0 | J19: =IF(J6="",0,I18) -> 0 | K19: =IF(K6="",0,J18) -> 0 | L19: =IF(L6="",0,K18) -> 0 | M19: =IF(M6="",0,L18) -> 0 | N19: =IF(N6="",0,M18) -> 0 | ... Q19: =IF(Q6="",0,P18) -> 0 | R19: =F19 -> 115170.08
C20: Net change | F20: =ROUND(F18-F19,2) -> 24438.03 | G20: =ROUND(G18-G19,2) -> 2919.83 | H20: =ROUND(H18-H19,2) -> -44999.88 | I20: =ROUND(I18-I19,2) -> 0 | J20: =ROUND(J18-J19,2) -> 0 | K20: =ROUND(K18-K19,2) -> 0 | L20: =ROUND(L18-L19,2) -> 0 | M20: =ROUND(M18-M19,2) -> 0 | ... R20: =ROUND(R18-R19,2) -> -17642.02
A22: Comptroller fund receipts:
C23: Rev Src | D23: Fund
C24: 0294 | D24: 0001 | F24: 16574139 | G24: 14138281 | H24: 13817598 | I24: 0 | J24: 0 | K24: 0 | L24: 0 | M24: 0 | N24: 0 | O24: 0 | P24: 0 | Q24: 0 | R24: =ROUND(SUM(F24:Q24),2) -> 44530018
C25: 0294 | D25: 0694 | F25: 12503298 | G25: 10665721 | H25: 10423802 | I25: 0 | J25: 0 | K25: 0 | L25: 0 | M25: 0 | N25: 0 | O25: 0 | P25: 0 | Q25: 0 | R25: =ROUND(SUM(F25:Q25),2) -> 33592821
F26: =ROUND(SUM(F24:F25),2) -> 29077437 | G26: =ROUND(SUM(G24:G25),2) -> 24804002 | H26: =ROUND(SUM(H24:H25),2) -> 24241400 | I26: =ROUND(SUM(I24:I25),2) -> 0 | J26: =ROUND(SUM(J24:J25),2) -> 0 | K26: =ROUND(SUM(K24:K25),2) -> 0 | L26: =ROUND(SUM(L24:L25),2) -> 0 | M26: =ROUND(SUM(M24:M25),2) -> 0 | ... R26: =ROUND(SUM(R24:R25),2) -> 78122839
A29: Collections reconciled to receipts | F29: =ROUND(F13-F20-F26,2) -> 0 | G29: =ROUND(G13-G20-G26,2) -> 0 | H29: =ROUND(H13-H20-H26,2) -> 0 | I29: =ROUND(I13-I20-I26,2) -> 0 | J29: =ROUND(J13-J20-J26,2) -> 0 | K29: =ROUND(K13-K20-K26,2) -> 0 | L29: =ROUND(L13-L20-L26,2) -> 0 | M29: =ROUND(M13-M20-M26,2) -> 0 | ... R29: =ROUND(R13-R20-R26,2) -> 0
A32: Additional Information:
A33: Taxpayers remit their payments to the Department using prescribed payment vouchers. The monies collected are deposited into bank accounts held in the custody of the State Treasurer’s Office. The amounts showing in the “Collections by voucher type” section above reflect the payments received from taxpayers. The monies collected are then receipted into State funds maintained by the State Comptroller’s Office. The fund receipts are reflected in the section titled “Comptroller fund receipts.” Additional information regarding fund receipts can be found on the Comptroller’s website at https://illinoiscomptroller.gov/. The allocation of specific monies to specific funds is governed by various tax acts. The line “Collections reconciled to receipts” demonstrates that all money collected by the Department from taxpayers is ultimately receipted into State funds. Variances between collections and receipts are due to timing differences related to changes in the amount of deposits in-transit to the State Comptroller at month end. This information is provided in the section titled “Collections deposited into State Treasury and in-transit to State Comptroller at month end.” Information regarding the taxes imposed, rates, form/filing requirements, payment requirements, and statutory authority can be found in the Tax Information section of the Department’s website at https://tax.illinois.gov/research/taxinformation.html.

Sheet Public Utility
A1: ILLINOIS DEPARTMENT OF REVENUE | R1: =Summary!$R$1 -> IDORRPT1
A2: COLLECTIONS REMITTED TO THE STATE COMPTROLLER | R2: =Summary!$R$2 -> Printed by the authority of the State of Illinois - web only, 1, 10/2026
A3: =IF(ISBLANK(Summary!A3),"",Summary!A3) -> FISCAL YEAR 2027 | R3: =Summary!$R$3 -> https://tax.illinois.gov/research/taxstats.html
F5: PUBLIC UTILITY
F6: =IF(ISBLANK(Summary!F6),"",Summary!F6) -> 46234 | G6: =IF(ISBLANK(Summary!G6),"",Summary!G6) -> 46265 | H6: =IF(ISBLANK(Summary!H6),"",Summary!H6) -> 46295 | I6: =IF(ISBLANK(Summary!I6),"",Summary!I6) | J6: =IF(ISBLANK(Summary!J6),"",Summary!J6) | K6: =IF(ISBLANK(Summary!K6),"",Summary!K6) | L6: =IF(ISBLANK(Summary!L6),"",Summary!L6) | M6: =IF(ISBLANK(Summary!M6),"",Summary!M6) | ... Q6: =IF(ISBLANK(Summary!Q6),"",Summary!Q6) | R6: Total
A8: Collections by voucher type:
B9: Assessments | F9: 328024.68 | G9: -124959.47 | H9: 79550.15 | I9: 0 | J9: 0 | K9: 0 | L9: 0 | M9: 0 | N9: 0 | O9: 0 | P9: 0 | Q9: 0 | R9: =ROUND(SUM(F9:Q9),2) -> 282615.36
B10: ICT-1 Invested Capital ES | F10: 13426.81 | G10: 0 | H10: 75968697 | I10: 0 | J10: 0 | K10: 0 | L10: 0 | M10: 0 | N10: 0 | O10: 0 | P10: 0 | Q10: 0 | R10: =ROUND(SUM(F10:Q10),2) -> 75982124
B11: ICT-4 Invested Capital | F11: 0 | G11: 0 | H11: 0 | I11: 0 | J11: 0 | K11: 0 | L11: 0 | M11: 0 | N11: 0 | O11: 0 | P11: 0 | Q11: 0 | R11: =ROUND(SUM(F11:Q11),2) -> 0
B12: License Fee | F12: 0 | G12: 0 | H12: 0 | I12: 0 | J12: 0 | K12: 0 | L12: 0 | M12: 0 | N12: 0 | O12: 0 | P12: 0 | Q12: 0 | R12: =ROUND(SUM(F12:Q12),2) -> 0
B13: RG-1 Gas Tax | F13: 88674.09 | G13: 350826.78 | H13: 221641.82 | I13: 0 | J13: 0 | K13: 0 | L13: 0 | M13: 0 | N13: 0 | O13: 0 | P13: 0 | Q13: 0 | R13: =ROUND(SUM(F13:Q13),2) -> 661142.69
B14: RG-6 Natural Gas Charges | F14: 5952749.1 | G14: 5946319.2 | H14: 5898059.5 | I14: 0 | J14: 0 | K14: 0 | L14: 0 | M14: 0 | N14: 0 | O14: 0 | P14: 0 | Q14: 0 | R14: =ROUND(SUM(F14:Q14),2) -> 17797128
B15: RPU-10 Energy Efficiency Pgm | F15: 0 | G15: 0 | H15: 0 | I15: 0 | J15: 0 | K15: 0 | L15: 0 | M15: 0 | N15: 0 | O15: 0 | P15: 0 | Q15: 0 | R15: =ROUND(SUM(F15:Q15),2) -> 0
B16: RPU-13 Electricity Tax | F16: 2959734.6 | G16: 3573818.4 | H16: 2210560.9 | I16: 0 | J16: 0 | K16: 0 | L16: 0 | M16: 0 | N16: 0 | O16: 0 | P16: 0 | Q16: 0 | R16: =ROUND(SUM(F16:Q16),2) -> 8744113.8
B17: RPU-50 Electricity Qtr Mthly | F17: 31441043 | G17: 36323997 | H17: 33365234 | I17: 0 | J17: 0 | K17: 0 | L17: 0 | M17: 0 | N17: 0 | O17: 0 | P17: 0 | Q17: 0 | R17: =ROUND(SUM(F17:Q17),2) -> 1.0113027e+08
B18: RPU-50 Natural Gas Qtr Mthly | F18: 3980611.7 | G18: 4086496 | H18: 4722246.1 | I18: 0 | J18: 0 | K18: 0 | L18: 0 | M18: 0 | N18: 0 | O18: 0 | P18: 0 | Q18: 0 | R18: =ROUND(SUM(F18:Q18),2) -> 12789354
B19: RPU-50 Telecom Qtr Mthly | F19: 27114714 | G19: 27577899 | H19: 25809943 | I19: 0 | J19: 0 | K19: 0 | L19: 0 | M19: 0 | N19: 0 | O19: 0 | P19: 0 | Q19: 0 | R19: =ROUND(SUM(F19:Q19),2) -> 80502556
B20: RPU-6 Electricity Charges | F20: 15818744 | G20: 16304740 | H20: 17886241 | I20: 0 | J20: 0 | K20: 0 | L20: 0 | M20: 0 | N20: 0 | O20: 0 | P20: 0 | Q20: 0 | R20: =ROUND(SUM(F20:Q20),2) -> 50009724
... B22: RT-2 Telecom Tax | F22: 6602855.4 | G22: 4554978.7 | H22: 4895179.9 | I22: 0 | J22: 0 | K22: 0 | L22: 0 | M22: 0 | N22: 0 | O22: 0 | P22: 0 | Q22: 0 | R22: =ROUND(SUM(F22:Q22),2) -> 16053014
F23: =ROUND(SUM(F9:F22),2) -> 95153316 | G23: =ROUND(SUM(G9:G22),2) -> 99462660 | H23: =ROUND(SUM(H9:H22),2) -> 1.7193436e+08 | I23: =ROUND(SUM(I9:I22),2) -> 0 | J23: =ROUND(SUM(J9:J22),2) -> 0 | K23: =ROUND(SUM(K9:K22),2) -> 0 | L23: =ROUND(SUM(L9:L22),2) -> 0 | M23: =ROUND(SUM(M9:M22),2) -> 0 | ... R23: =ROUND(SUM(R9:R22),2) -> 3.6655034e+08
A25: Collections deposited into State
B26: Treasury and in-transit to State
B27: Comptroller at month end:
C28: Current month | F28: 10393755 | G28: 9919038.7 | H28: 9254639.9 | I28: 0 | J28: 0 | K28: 0 | L28: 0 | M28: 0 | N28: 0 | O28: 0 | P28: 0 | Q28: 0 | R28: =IF(ISNA(LOOKUP(2,1/(F6:Q6<>""),F28:Q28)),0,LOOKUP(2,1/(F6:Q6<>""),F28:Q28)) -> 9254639.9
C29: Prior month | F29: 10782326 | G29: =IF(G6="",0,F28) -> 10393755 | H29: =IF(H6="",0,G28) -> 9919038.7 | I29: =IF(I6="",0,H28) -> 0 | J29: =IF(J6="",0,I28) -> 0 | K29: =IF(K6="",0,J28) -> 0 | L29: =IF(L6="",0,K28) -> 0 | M29: =IF(M6="",0,L28) -> 0 | N29: =IF(N6="",0,M28) -> 0 | ... Q29: =IF(Q6="",0,P28) -> 0 | R29: =F29 -> 10782326
C30: Net change | F30: =ROUND(F28-F29,2) -> -388570.34 | G30: =ROUND(G28-G29,2) -> -474716.62 | H30: =ROUND(H28-H29,2) -> -664398.78 | I30: =ROUND(I28-I29,2) -> 0 | J30: =ROUND(J28-J29,2) -> 0 | K30: =ROUND(K28-K29,2) -> 0 | L30: =ROUND(L28-L29,2) -> 0 | M30: =ROUND(M28-M29,2) -> 0 | ... R30: =ROUND(R28-R29,2) -> -1527685.7
A32: Comptroller fund receipts:
C33: Rev Src | D33: Fund
C34: 0413 | D34: 0001 | F34: 12961659 | G34: 12311805 | H34: 11894149 | I34: 0 | J34: 0 | K34: 0 | L34: 0 | M34: 0 | N34: 0 | O34: 0 | P34: 0 | Q34: 0 | R34: =ROUND(SUM(F34:Q34),2) -> 37167613
C35: 0415 | D35: 0001 | F35: 5061844.1 | G35: 4339563 | H35: 4732377.4 | I35: 0 | J35: 0 | K35: 0 | L35: 0 | M35: 0 | N35: 0 | O35: 0 | P35: 0 | Q35: 0 | R35: =ROUND(SUM(F35:Q35),2) -> 14133785
C36: 0419 | D36: 0802 | F36: 29450.79 | G36: 0 | H36: 75968651 | I36: 0 | J36: 0 | K36: 0 | L36: 0 | M36: 0 | N36: 0 | O36: 0 | P36: 0 | Q36: 0 | R36: =ROUND(SUM(F36:Q36),2) -> 75998102
C37: 1424 | D37: 0412 | F37: 3811939 | G37: 3681292.4 | H37: 3597327 | I37: 0 | J37: 0 | K37: 0 | L37: 0 | M37: 0 | N37: 0 | O37: 0 | P37: 0 | Q37: 0 | R37: =ROUND(SUM(F37:Q37),2) -> 11090558
C38: 1424 | D38: 0568 | F38: 2811939 | G38: 2681292.4 | H38: 2597327 | I38: 0 | J38: 0 | K38: 0 | L38: 0 | M38: 0 | N38: 0 | O38: 0 | P38: 0 | Q38: 0 | R38: =ROUND(SUM(F38:Q38),2) -> 8090558.4
C39: 1424 | D39: 0729 | F39: 4630003 | G39: 4414886.6 | H39: 4276633.2 | I39: 0 | J39: 0 | K39: 0 | L39: 0 | M39: 0 | N39: 0 | O39: 0 | P39: 0 | Q39: 0 | R39: =ROUND(SUM(F39:Q39),2) -> 13321523
C40: 1424 | D40: 0802 | F40: 861951.28 | G40: 867950.4 | H40: 894675.99 | I40: 0 | J40: 0 | K40: 0 | L40: 0 | M40: 0 | N40: 0 | O40: 0 | P40: 0 | Q40: 0 | R40: =ROUND(SUM(F40:Q40),2) -> 2624577.7
C41: 1443 | D41: 0564 | F41: 476141.75 | G41: 464136.01 | H41: 484754.68 | I41: 0 | J41: 0 | K41: 0 | L41: 0 | M41: 0 | N41: 0 | O41: 0 | P41: 0 | Q41: 0 | R41: =ROUND(SUM(F41:Q41),2) -> 1425032.4
C42: 1443 | D42: 0925 | F42: 476141.75 | G42: 464136.01 | H42: 484754.68 | I42: 0 | J42: 0 | K42: 0 | L42: 0 | M42: 0 | N42: 0 | O42: 0 | P42: 0 | Q42: 0 | R42: =ROUND(SUM(F42:Q42),2) -> 1425032.4
C43: 1445 | D43: 0550 | F43: 7835643.8 | G43: 7516908.7 | H43: 8198627.3 | I43: 0 | J43: 0 | K43: 0 | L43: 0 | M43: 0 | N43: 0 | O43: 0 | P43: 0 | Q43: 0 | R43: =ROUND(SUM(F43:Q43),2) -> 23551180
C44: 1446 | D44: 0550 | F44: 5577377.1 | G44: 5572986.2 | H44: 5528885.9 | I44: 0 | J44: 0 | K44: 0 | L44: 0 | M44: 0 | N44: 0 | O44: 0 | P44: 0 | Q44: 0 | R44: =ROUND(SUM(F44:Q44),2) -> 16679249
C45: 1497 | D45: 0001 | F45: 33143719 | G45: 39173610 | H45: 35248346 | I45: 0 | J45: 0 | K45: 0 | L45: 0 | M45: 0 | N45: 0 | O45: 0 | P45: 0 | Q45: 0 | R45: =ROUND(SUM(F45:Q45),2) -> 1.0756568e+08
...

Sheet Hotel
A1: ILLINOIS DEPARTMENT OF REVENUE | R1: =Summary!$R$1 -> IDORRPT1
A2: COLLECTIONS REMITTED TO THE STATE COMPTROLLER | R2: =Summary!$R$2 -> Printed by the authority of the State of Illinois - web only, 1, 10/2026
A3: =IF(ISBLANK(Summary!A3),"",Summary!A3) -> FISCAL YEAR 2027 | R3: =Summary!$R$3 -> https://tax.illinois.gov/research/taxstats.html
F5: HOTEL
F6: =IF(ISBLANK(Summary!F6),"",Summary!F6) -> 46234 | G6: =IF(ISBLANK(Summary!G6),"",Summary!G6) -> 46265 | H6: =IF(ISBLANK(Summary!H6),"",Summary!H6) -> 46295 | I6: =IF(ISBLANK(Summary!I6),"",Summary!I6) | J6: =IF(ISBLANK(Summary!J6),"",Summary!J6) | K6: =IF(ISBLANK(Summary!K6),"",Summary!K6) | L6: =IF(ISBLANK(Summary!L6),"",Summary!L6) | M6: =IF(ISBLANK(Summary!M6),"",Summary!M6) | ... Q6: =IF(ISBLANK(Summary!Q6),"",Summary!Q6) | R6: Total
A8: Collections by voucher type:
B9: Assessments | F9: 1478959.7 | G9: 1182207 | H9: 1383978.2 | I9: 0 | J9: 0 | K9: 0 | L9: 0 | M9: 0 | N9: 0 | O9: 0 | P9: 0 | Q9: 0 | R9: =ROUND(SUM(F9:Q9),2) -> 4045144.9
B10: RHM-1 Return | F10: 71298079 | G10: 66858790 | H10: 66174407 | I10: 0 | J10: 0 | K10: 0 | L10: 0 | M10: 0 | N10: 0 | O10: 0 | P10: 0 | Q10: 0 | R10: =ROUND(SUM(F10:Q10),2) -> 2.0433128e+08
F11: =ROUND(SUM(F9:F10),2) -> 72777038 | G11: =ROUND(SUM(G9:G10),2) -> 68040997 | H11: =ROUND(SUM(H9:H10),2) -> 67558385 | I11: =ROUND(SUM(I9:I10),2) -> 0 | J11: =ROUND(SUM(J9:J10),2) -> 0 | K11: =ROUND(SUM(K9:K10),2) -> 0 | L11: =ROUND(SUM(L9:L10),2) -> 0 | M11: =ROUND(SUM(M9:M10),2) -> 0 | ... R11: =ROUND(SUM(R9:R10),2) -> 2.0837642e+08
A13: Collections deposited into State
B14: Treasury and in-transit to State
B15: Comptroller at month end:
C16: Current month | F16: 18883413 | G16: 21169952 | H16: 16810634 | I16: 0 | J16: 0 | K16: 0 | L16: 0 | M16: 0 | N16: 0 | O16: 0 | P16: 0 | Q16: 0 | R16: =IF(ISNA(LOOKUP(2,1/(F6:Q6<>""),F16:Q16)),0,LOOKUP(2,1/(F6:Q6<>""),F16:Q16)) -> 16810634
C17: Prior month | F17: 25092792 | G17: =IF(G6="",0,F16) -> 18883413 | H17: =IF(H6="",0,G16) -> 21169952 | I17: =IF(I6="",0,H16) -> 0 | J17: =IF(J6="",0,I16) -> 0 | K17: =IF(K6="",0,J16) -> 0 | L17: =IF(L6="",0,K16) -> 0 | M17: =IF(M6="",0,L16) -> 0 | N17: =IF(N6="",0,M16) -> 0 | ... Q17: =IF(Q6="",0,P16) -> 0 | R17: =F17 -> 25092792
C18: Net change | F18: =ROUND(F16-F17,2) -> -6209379.2 | G18: =ROUND(G16-G17,2) -> 2286538.7 | H18: =ROUND(H16-H17,2) -> -4359318 | I18: =ROUND(I16-I17,2) -> 0 | J18: =ROUND(J16-J17,2) -> 0 | K18: =ROUND(K16-K17,2) -> 0 | L18: =ROUND(L16-L17,2) -> 0 | M18: =ROUND(M16-M17,2) -> 0 | ... R18: =ROUND(R16-R17,2) -> -8282158.5
A20: Comptroller fund receipts:
C21: Rev Src | D21: Fund
C22: 0138 | D22: 0452 | F22: 4755868.6 | G22: 4222151.8 | H22: 4577108.4 | I22: 0 | J22: 0 | K22: 0 | L22: 0 | M22: 0 | N22: 0 | O22: 0 | P22: 0 | Q22: 0 | R22: =ROUND(SUM(F22:Q22),2) -> 13555129
C23: 0139 | D23: 0001 | F23: 353268.82 | G23: 517214.71 | H23: 569608.39 | I23: 0 | J23: 0 | K23: 0 | L23: 0 | M23: 0 | N23: 0 | O23: 0 | P23: 0 | Q23: 0 | R23: =ROUND(SUM(F23:Q23),2) -> 1440091.9
C24: 0139 | D24: 0621 | F24: 1057903.8 | G24: 683408.84 | H24: 830242.38 | I24: 0 | J24: 0 | K24: 0 | L24: 0 | M24: 0 | N24: 0 | O24: 0 | P24: 0 | Q24: 0 | R24: =ROUND(SUM(F24:Q24),2) -> 2571555
C25: 0139 | D25: 0624 | F25: 2115808 | G25: 1366818.4 | H25: 1660485.5 | I25: 0 | J25: 0 | K25: 0 | L25: 0 | M25: 0 | N25: 0 | O25: 0 | P25: 0 | Q25: 0 | R25: =ROUND(SUM(F25:Q25),2) -> 5143111.9
C26: 0139 | D26: 0763 | F26: 8463232.2 | G26: 5467273.4 | H26: 6641942 | I26: 0 | J26: 0 | K26: 0 | L26: 0 | M26: 0 | N26: 0 | O26: 0 | P26: 0 | Q26: 0 | R26: =ROUND(SUM(F26:Q26),2) -> 20572448
C27: 0139 | D27: 0960 | F27: 26605539 | G27: 21255613 | H27: 23353235 | I27: 0 | J27: 0 | K27: 0 | L27: 0 | M27: 0 | N27: 0 | O27: 0 | P27: 0 | Q27: 0 | R27: =ROUND(SUM(F27:Q27),2) -> 71214387
C28: 0139 | D28: 0969 | F28: 3475970.3 | G28: 2245487.2 | H28: 2727940.3 | I28: 0 | J28: 0 | K28: 0 | L28: 0 | M28: 0 | N28: 0 | O28: 0 | P28: 0 | Q28: 0 | R28: =ROUND(SUM(F28:Q28),2) -> 8449397.8
C29: 0140 | D29: 0337 | F29: 11147938 | G29: 9995008.3 | H29: 10838590 | I29: 0 | J29: 0 | K29: 0 | L29: 0 | M29: 0 | N29: 0 | O29: 0 | P29: 0 | Q29: 0 | R29: =ROUND(SUM(F29:Q29),2) -> 31981536
C30: 0141 | D30: 0225 | F30: 625000 | G30: 625000 | H30: 625000 | I30: 0 | J30: 0 | K30: 0 | L30: 0 | M30: 0 | N30: 0 | O30: 0 | P30: 0 | Q30: 0 | R30: =ROUND(SUM(F30:Q30),2) -> 1875000
