Workbook

Sheet Summary
A1: ILLINOIS DEPARTMENT OF REVENUE | R1: IDORRPT5
A2: DAILY COLLECTIONS FROM MAJOR REVENUE SOURCES | R2: Printed by the authority of the State of Illinois - web only, 1, 10/2026
A3: FISCAL YEAR 2027 | R3: https://tax.illinois.gov/research/taxstats.html
C5: ALL REVENUE SOURCES
A6: Date | C6: Sales and Use | D6: Motor Fuel | E6: Cigarette | F6: Senior Citizen Deferral | G6: Liquor | H6: Public Utility | I6: Hotel | J6: Real Estate Transfer | K6: Charity Gaming | L6: Private Vehicle Use | M6: Business Income | N6: Individual Income | O6: Automobile Renting | P6: Live Adult Entertainment | Q6: Adult Use Cannabis | R6: Total
A8: 46204 | C8: =ROUND(SUMIF(Sales!$A:$A,$A8,Sales!$Z:$Z),2) -> 18219700 | D8: =ROUND(SUMIF('Motor Fuel'!$A:$A,$A8,'Motor Fuel'!$K:$K),2) -> 21784.93 | E8: =ROUND(SUMIF(Cigarette!$A:$A,$A8,Cigarette!$J:$J),2) -> 282476.51 | F8: =ROUND(SUMIF('Senior Citizen'!$A:$A,$A8,'Senior Citizen'!$E:$E),2) -> 200 | G8: =ROUND(SUMIF(Liquor!$A:$A,$A8,Liquor!$G:$G),2) -> 10813.8 | H8: =ROUND(SUMIF('Public Utility'!$A:$A,$A8,'Public Utility'!$Q:$Q),2) -> 342847.17 | I8: =ROUND(SUMIF(Hotel!$A:$A,$A8,Hotel!$E:$E),2) -> 1277749.5 | J8: =ROUND(SUMIF('Real Estate Transfer'!$A:$A,$A8,'Real Estate Transfer'!$F:$F),2) -> 36618 | K8: =ROUND(SUMIF('Charity Gaming'!$A:$A,$A8,'Charity Gaming'!$R:$R),2) -> 26622.51 | L8: =ROUND(SUMIF('Private Vehicle Use'!$A:$A,$A8,'Private Vehicle Use'!$E:$E),2) -> 121529.15 | M8: =ROUND(SUMIF('Business Income'!$A:$A,$A8,'Business Income'!$M:$M),2) -> 4582057.5 | N8: =ROUND(SUMIF('Individual Income'!$A:$A,$A8,'Individual Income'!$I:$I),2) -> 1.4758386e+08 | O8: =ROUND(SUMIF('Automobile Renting'!$A:$A,$A8,'Automobile Renting'!$E:$E),2) -> 238.33 | P8: =ROUND(SUMIF('Live Adult Entertainment'!$A:$A,$A8,'Live Adult Entertainment'!$E:$E),2) -> 0 | Q8: =ROUND(SUMIF(Cannabis!$A:$A,$A8,Cannabis!$F:$F),2) -> 851805.95 | R8: =ROUND(SUM(C8:Q8),2) -> 1.7335831e+08
A9: 46205 | C9: =ROUND(SUMIF(Sales!$A:$A,$A9,Sales!$Z:$Z),2) -> 25136205 | D9: =ROUND(SUMIF('Motor Fuel'!$A:$A,$A9,'Motor Fuel'!$K:$K),2) -> 15436.27 | E9: =ROUND(SUMIF(Cigarette!$A:$A,$A9,Cigarette!$J:$J),2) -> 2058637.8 | F9: =ROUND(SUMIF('Senior Citizen'!$A:$A,$A9,'Senior Citizen'!$E:$E),2) -> 0 | G9: =ROUND(SUMIF(Liquor!$A:$A,$A9,Liquor!$G:$G),2) -> 1211.83 | H9: =ROUND(SUMIF('Public Utility'!$A:$A,$A9,'Public Utility'!$Q:$Q),2) -> 64584.21 | I9: =ROUND(SUMIF(Hotel!$A:$A,$A9,Hotel!$E:$E),2) -> 2718222.4 | J9: =ROUND(SUMIF('Real Estate Transfer'!$A:$A,$A9,'Real Estate Transfer'!$F:$F),2) -> 393574 | K9: =ROUND(SUMIF('Charity Gaming'!$A:$A,$A9,'Charity Gaming'!$R:$R),2) -> 13470 | L9: =ROUND(SUMIF('Private Vehicle Use'!$A:$A,$A9,'Private Vehicle Use'!$E:$E),2) -> 123600 | M9: =ROUND(SUMIF('Business Income'!$A:$A,$A9,'Business Income'!$M:$M),2) -> 35347843 | N9: =ROUND(SUMIF('Individual Income'!$A:$A,$A9,'Individual Income'!$I:$I),2) -> 1.4993143e+08 | O9: =ROUND(SUMIF('Automobile Renting'!$A:$A,$A9,'Automobile Renting'!$E:$E),2) -> 0 | P9: =ROUND(SUMIF('Live Adult Entertainment'!$A:$A,$A9,'Live Adult Entertainment'!$E:$E),2) -> 0 | Q9: =ROUND(SUMIF(Cannabis!$A:$A,$A9,Cannabis!$F:$F),2) -> 2597432 | R9: =ROUND(SUM(C9:Q9),2) -> 2.1840165e+08
A10: 46206 | C10: =ROUND(SUMIF(Sales!$A:$A,$A10,Sales!$Z:$Z),2) -> 62156706 | D10: =ROUND(SUMIF('Motor Fuel'!$A:$A,$A10,'Motor Fuel'!$K:$K),2) -> 142001.22 | E10: =ROUND(SUMIF(Cigarette!$A:$A,$A10,Cigarette!$J:$J),2) -> 1165125.1 | F10: =ROUND(SUMIF('Senior Citizen'!$A:$A,$A10,'Senior Citizen'!$E:$E),2) -> 0 | G10: =ROUND(SUMIF(Liquor!$A:$A,$A10,Liquor!$G:$G),2) -> 7000.14 | H10: =ROUND(SUMIF('Public Utility'!$A:$A,$A10,'Public Utility'!$Q:$Q),2) -> 108284.32 | I10: =ROUND(SUMIF(Hotel!$A:$A,$A10,Hotel!$E:$E),2) -> 527945.25 | J10: =ROUND(SUMIF('Real Estate Transfer'!$A:$A,$A10,'Real Estate Transfer'!$F:$F),2) -> 645962.5 | K10: =ROUND(SUMIF('Charity Gaming'!$A:$A,$A10,'Charity Gaming'!$R:$R),2) -> 27938.68 | L10: =ROUND(SUMIF('Private Vehicle Use'!$A:$A,$A10,'Private Vehicle Use'!$E:$E),2) -> 104632.26 | M10: =ROUND(SUMIF('Business Income'!$A:$A,$A10,'Business Income'!$M:$M),2) -> 5171722.8 | N10: =ROUND(SUMIF('Individual Income'!$A:$A,$A10,'Individual Income'!$I:$I),2) -> 57721396 | O10: =ROUND(SUMIF('Automobile Renting'!$A:$A,$A10,'Automobile Renting'!$E:$E),2) -> 3383.73 | P10: =ROUND(SUMIF('Live Adult Entertainment'!$A:$A,$A10,'Live Adult Entertainment'!$E:$E),2) -> 0 | Q10: =ROUND(SUMIF(Cannabis!$A:$A,$A10,Cannabis!$F:$F),2) -> 189994.57 | R10: =ROUND(SUM(C10:Q10),2) -> 1.2797209e+08
A11: 46207 | C11: =ROUND(SUMIF(Sales!$A:$A,$A11,Sales!$Z:$Z),2) -> 0 | D11: =ROUND(SUMIF('Motor Fuel'!$A:$A,$A11,'Motor Fuel'!$K:$K),2) -> 0 | E11: =ROUND(SUMIF(Cigarette!$A:$A,$A11,Cigarette!$J:$J),2) -> 0 | F11: =ROUND(SUMIF('Senior Citizen'!$A:$A,$A11,'Senior Citizen'!$E:$E),2) -> 0 | G11: =ROUND(SUMIF(Liquor!$A:$A,$A11,Liquor!$G:$G),2) -> 0 | H11: =ROUND(SUMIF('Public Utility'!$A:$A,$A11,'Public Utility'!$Q:$Q),2) -> 0 | I11: =ROUND(SUMIF(Hotel!$A:$A,$A11,Hotel!$E:$E),2) -> 0 | J11: =ROUND(SUMIF('Real Estate Transfer'!$A:$A,$A11,'Real Estate Transfer'!$F:$F),2) -> 0 | K11: =ROUND(SUMIF('Charity Gaming'!$A:$A,$A11,'Charity Gaming'!$R:$R),2) -> 0 | L11: =ROUND(SUMIF('Private Vehicle Use'!$A:$A,$A11,'Private Vehicle Use'!$E:$E),2) -> 0 | M11: =ROUND(SUMIF('Business Income'!$A:$A,$A11,'Business Income'!$M:$M),2) -> 0 | N11: =ROUND(SUMIF('Individual Income'!$A:$A,$A11,'Individual Income'!$I:$I),2) -> 0 | O11: =ROUND(SUMIF('Automobile Renting'!$A:$A,$A11,'Automobile Renting'!$E:$E),2) -> 0 | P11: =ROUND(SUMIF('Live Adult Entertainment'!$A:$A,$A11,'Live Adult Entertainment'!$E:$E),2) -> 0 | Q11: =ROUND(SUMIF(Cannabis!$A:$A,$A11,Cannabis!$F:$F),2) -> 0 | R11: =ROUND(SUM(C11:Q11),2) -> 0
A12: 46208 | C12: =ROUND(SUMIF(Sales!$A:$A,$A12,Sales!$Z:$Z),2) -> 0 | D12: =ROUND(SUMIF('Motor Fuel'!$A:$A,$A12,'Motor Fuel'!$K:$K),2) -> 0 | E12: =ROUND(SUMIF(Cigarette!$A:$A,$A12,Cigarette!$J:$J),2) -> 0 | F12: =ROUND(SUMIF('Senior Citizen'!$A:$A,$A12,'Senior Citizen'!$E:$E),2) -> 0 | G12: =ROUND(SUMIF(Liquor!$A:$A,$A12,Liquor!$G:$G),2) -> 0 | H12: =ROUND(SUMIF('Public Utility'!$A:$A,$A12,'Public Utility'!$Q:$Q),2) -> 0 | I12: =ROUND(SUMIF(Hotel!$A:$A,$A12,Hotel!$E:$E),2) -> 0 | J12: =ROUND(SUMIF('Real Estate Transfer'!$A:$A,$A12,'Real Estate Transfer'!$F:$F),2) -> 0 | K12: =ROUND(SUMIF('Charity Gaming'!$A:$A,$A12,'Charity Gaming'!$R:$R),2) -> 0 | L12: =ROUND(SUMIF('Private Vehicle Use'!$A:$A,$A12,'Private Vehicle Use'!$E:$E),2) -> 0 | M12: =ROUND(SUMIF('Business Income'!$A:$A,$A12,'Business Income'!$M:$M),2) -> 0 | N12: =ROUND(SUMIF('Individual Income'!$A:$A,$A12,'Individual Income'!$I:$I),2) -> 0 | O12: =ROUND(SUMIF('Automobile Renting'!$A:$A,$A12,'Automobile Renting'!$E:$E),2) -> 0 | P12: =ROUND(SUMIF('Live Adult Entertainment'!$A:$A,$A12,'Live Adult Entertainment'!$E:$E),2) -> 0 | Q12: =ROUND(SUMIF(Cannabis!$A:$A,$A12,Cannabis!$F:$F),2) -> 0 | R12: =ROUND(SUM(C12:Q12),2) -> 0
A13: 46209 | C13: =ROUND(SUMIF(Sales!$A:$A,$A13,Sales!$Z:$Z),2) -> 43120621 | D13: =ROUND(SUMIF('Motor Fuel'!$A:$A,$A13,'Motor Fuel'!$K:$K),2) -> 71243.66 | E13: =ROUND(SUMIF(Cigarette!$A:$A,$A13,Cigarette!$J:$J),2) -> 4673465.9 | F13: =ROUND(SUMIF('Senior Citizen'!$A:$A,$A13,'Senior Citizen'!$E:$E),2) -> 0 | G13: =ROUND(SUMIF(Liquor!$A:$A,$A13,Liquor!$G:$G),2) -> 224301.69 | H13: =ROUND(SUMIF('Public Utility'!$A:$A,$A13,'Public Utility'!$Q:$Q),2) -> 7693976.7 | I13: =ROUND(SUMIF(Hotel!$A:$A,$A13,Hotel!$E:$E),2) -> -63874.93 | J13: =ROUND(SUMIF('Real Estate Transfer'!$A:$A,$A13,'Real Estate Transfer'!$F:$F),2) -> 1373638.5 | K13: =ROUND(SUMIF('Charity Gaming'!$A:$A,$A13,'Charity Gaming'!$R:$R),2) -> 21386.8 | L13: =ROUND(SUMIF('Private Vehicle Use'!$A:$A,$A13,'Private Vehicle Use'!$E:$E),2) -> -8784.91 | M13: =ROUND(SUMIF('Business Income'!$A:$A,$A13,'Business Income'!$M:$M),2) -> 6921251.1 | N13: =ROUND(SUMIF('Individual Income'!$A:$A,$A13,'Individual Income'!$I:$I),2) -> 1.5996522e+08 | O13: =ROUND(SUMIF('Automobile Renting'!$A:$A,$A13,'Automobile Renting'!$E:$E),2) -> 1973.59 | P13: =ROUND(SUMIF('Live Adult Entertainment'!$A:$A,$A13,'Live Adult Entertainment'!$E:$E),2) -> 0 | Q13: =ROUND(SUMIF(Cannabis!$A:$A,$A13,Cannabis!$F:$F),2) -> 846441.56 | R13: =ROUND(SUM(C13:Q13),2) -> 2.2484086e+08
A14: 46210 | C14: =ROUND(SUMIF(Sales!$A:$A,$A14,Sales!$Z:$Z),2) -> 1.7368179e+08 | D14: =ROUND(SUMIF('Motor Fuel'!$A:$A,$A14,'Motor Fuel'!$K:$K),2) -> 135479.91 | E14: =ROUND(SUMIF(Cigarette!$A:$A,$A14,Cigarette!$J:$J),2) -> 16972.2 | F14: =ROUND(SUMIF('Senior Citizen'!$A:$A,$A14,'Senior Citizen'!$E:$E),2) -> 30331.78 | G14: =ROUND(SUMIF(Liquor!$A:$A,$A14,Liquor!$G:$G),2) -> 6323.52 | H14: =ROUND(SUMIF('Public Utility'!$A:$A,$A14,'Public Utility'!$Q:$Q),2) -> 7385835.8 | I14: =ROUND(SUMIF(Hotel!$A:$A,$A14,Hotel!$E:$E),2) -> 134813.06 | J14: =ROUND(SUMIF('Real Estate Transfer'!$A:$A,$A14,'Real Estate Transfer'!$F:$F),2) -> 208022 | K14: =ROUND(SUMIF('Charity Gaming'!$A:$A,$A14,'Charity Gaming'!$R:$R),2) -> 67035.44 | L14: =ROUND(SUMIF('Private Vehicle Use'!$A:$A,$A14,'Private Vehicle Use'!$E:$E),2) -> 608072.81 | M14: =ROUND(SUMIF('Business Income'!$A:$A,$A14,'Business Income'!$M:$M),2) -> 3824523 | N14: =ROUND(SUMIF('Individual Income'!$A:$A,$A14,'Individual Income'!$I:$I),2) -> 12936911 | O14: =ROUND(SUMIF('Automobile Renting'!$A:$A,$A14,'Automobile Renting'!$E:$E),2) -> 3464.43 | P14: =ROUND(SUMIF('Live Adult Entertainment'!$A:$A,$A14,'Live Adult Entertainment'!$E:$E),2) -> 0 | Q14: =ROUND(SUMIF(Cannabis!$A:$A,$A14,Cannabis!$F:$F),2) -> 3824497 | R14: =ROUND(SUM(C14:Q14),2) -> 202864068
A15: 46211 | C15: =ROUND(SUMIF(Sales!$A:$A,$A15,Sales!$Z:$Z),2) -> 43386105 | D15: =ROUND(SUMIF('Motor Fuel'!$A:$A,$A15,'Motor Fuel'!$K:$K),2) -> 203094.54 | E15: =ROUND(SUMIF(Cigarette!$A:$A,$A15,Cigarette!$J:$J),2) -> 2339296.4 | F15: =ROUND(SUMIF('Senior Citizen'!$A:$A,$A15,'Senior Citizen'!$E:$E),2) -> 0 | G15: =ROUND(SUMIF(Liquor!$A:$A,$A15,Liquor!$G:$G),2) -> 359978.81 | H15: =ROUND(SUMIF('Public Utility'!$A:$A,$A15,'Public Utility'!$Q:$Q),2) -> 2097553.9 | I15: =ROUND(SUMIF(Hotel!$A:$A,$A15,Hotel!$E:$E),2) -> 262241.05 | J15: =ROUND(SUMIF('Real Estate Transfer'!$A:$A,$A15,'Real Estate Transfer'!$F:$F),2) -> 182581.5 | K15: =ROUND(SUMIF('Charity Gaming'!$A:$A,$A15,'Charity Gaming'!$R:$R),2) -> 51588.75 | L15: =ROUND(SUMIF('Private Vehicle Use'!$A:$A,$A15,'Private Vehicle Use'!$E:$E),2) -> 195362.17 | M15: =ROUND(SUMIF('Business Income'!$A:$A,$A15,'Business Income'!$M:$M),2) -> 34342664 | N15: =ROUND(SUMIF('Individual Income'!$A:$A,$A15,'Individual Income'!$I:$I),2) -> 1.3584277e+08 | O15: =ROUND(SUMIF('Automobile Renting'!$A:$A,$A15,'Automobile Renting'!$E:$E),2) -> 59920.62 | P15: =ROUND(SUMIF('Live Adult Entertainment'!$A:$A,$A15,'Live Adult Entertainment'!$E:$E),2) -> 0 | Q15: =ROUND(SUMIF(Cannabis!$A:$A,$A15,Cannabis!$F:$F),2) -> 1045506.9 | R15: =ROUND(SUM(C15:Q15),2) -> 2.2036866e+08
A16: 46212 | C16: =ROUND(SUMIF(Sales!$A:$A,$A16,Sales!$Z:$Z),2) -> 28502133 | D16: =ROUND(SUMIF('Motor Fuel'!$A:$A,$A16,'Motor Fuel'!$K:$K),2) -> 160315.65 | E16: =ROUND(SUMIF(Cigarette!$A:$A,$A16,Cigarette!$J:$J),2) -> 4264479.7 | F16: =ROUND(SUMIF('Senior Citizen'!$A:$A,$A16,'Senior Citizen'!$E:$E),2) -> 0 | G16: =ROUND(SUMIF(Liquor!$A:$A,$A16,Liquor!$G:$G),2) -> 84269.87 | H16: =ROUND(SUMIF('Public Utility'!$A:$A,$A16,'Public Utility'!$Q:$Q),2) -> 227580.83 | I16: =ROUND(SUMIF(Hotel!$A:$A,$A16,Hotel!$E:$E),2) -> 299926.5 | J16: =ROUND(SUMIF('Real Estate Transfer'!$A:$A,$A16,'Real Estate Transfer'!$F:$F),2) -> 451768 | K16: =ROUND(SUMIF('Charity Gaming'!$A:$A,$A16,'Charity Gaming'!$R:$R),2) -> 82786.83 | L16: =ROUND(SUMIF('Private Vehicle Use'!$A:$A,$A16,'Private Vehicle Use'!$E:$E),2) -> 134498.62 | M16: =ROUND(SUMIF('Business Income'!$A:$A,$A16,'Business Income'!$M:$M),2) -> 17545233 | N16: =ROUND(SUMIF('Individual Income'!$A:$A,$A16,'Individual Income'!$I:$I),2) -> 1.3842715e+08 | O16: =ROUND(SUMIF('Automobile Renting'!$A:$A,$A16,'Automobile Renting'!$E:$E),2) -> 1053 | P16: =ROUND(SUMIF('Live Adult Entertainment'!$A:$A,$A16,'Live Adult Entertainment'!$E:$E),2) -> 0 | Q16: =ROUND(SUMIF(Cannabis!$A:$A,$A16,Cannabis!$F:$F),2) -> 1479959.9 | R16: =ROUND(SUM(C16:Q16),2) -> 1.9166115e+08
A17: 46213 | C17: =ROUND(SUMIF(Sales!$A:$A,$A17,Sales!$Z:$Z),2) -> 26760453 | D17: =ROUND(SUMIF('Motor Fuel'!$A:$A,$A17,'Motor Fuel'!$K:$K),2) -> 107859.2 | E17: =ROUND(SUMIF(Cigarette!$A:$A,$A17,Cigarette!$J:$J),2) -> 1070544.4 | F17: =ROUND(SUMIF('Senior Citizen'!$A:$A,$A17,'Senior Citizen'!$E:$E),2) -> 0 | G17: =ROUND(SUMIF(Liquor!$A:$A,$A17,Liquor!$G:$G),2) -> 134402.75 | H17: =ROUND(SUMIF('Public Utility'!$A:$A,$A17,'Public Utility'!$Q:$Q),2) -> 5617622.7 | I17: =ROUND(SUMIF(Hotel!$A:$A,$A17,Hotel!$E:$E),2) -> 412414.99 | J17: =ROUND(SUMIF('Real Estate Transfer'!$A:$A,$A17,'Real Estate Transfer'!$F:$F),2) -> 593727 | K17: =ROUND(SUMIF('Charity Gaming'!$A:$A,$A17,'Charity Gaming'!$R:$R),2) -> 61872.75 | L17: =ROUND(SUMIF('Private Vehicle Use'!$A:$A,$A17,'Private Vehicle Use'!$E:$E),2) -> 297884.47 | M17: =ROUND(SUMIF('Business Income'!$A:$A,$A17,'Business Income'!$M:$M),2) -> 20000360 | N17: =ROUND(SUMIF('Individual Income'!$A:$A,$A17,'Individual Income'!$I:$I),2) -> 35507907 | O17: =ROUND(SUMIF('Automobile Renting'!$A:$A,$A17,'Automobile Renting'!$E:$E),2) -> 7233 | P17: =ROUND(SUMIF('Live Adult Entertainment'!$A:$A,$A17,'Live Adult Entertainment'!$E:$E),2) -> 0 | Q17: =ROUND(SUMIF(Cannabis!$A:$A,$A17,Cannabis!$F:$F),2) -> 1273233.1 | R17: =ROUND(SUM(C17:Q17),2) -> 91845515
A18: 46214 | C18: =ROUND(SUMIF(Sales!$A:$A,$A18,Sales!$Z:$Z),2) -> 0 | D18: =ROUND(SUMIF('Motor Fuel'!$A:$A,$A18,'Motor Fuel'!$K:$K),2) -> 0 | E18: =ROUND(SUMIF(Cigarette!$A:$A,$A18,Cigarette!$J:$J),2) -> 0 | F18: =ROUND(SUMIF('Senior Citizen'!$A:$A,$A18,'Senior Citizen'!$E:$E),2) -> 0 | G18: =ROUND(SUMIF(Liquor!$A:$A,$A18,Liquor!$G:$G),2) -> 0 | H18: =ROUND(SUMIF('Public Utility'!$A:$A,$A18,'Public Utility'!$Q:$Q),2) -> 0 | I18: =ROUND(SUMIF(Hotel!$A:$A,$A18,Hotel!$E:$E),2) -> 0 | J18: =ROUND(SUMIF('Real Estate Transfer'!$A:$A,$A18,'Real Estate Transfer'!$F:$F),2) -> 0 | K18: =ROUND(SUMIF('Charity Gaming'!$A:$A,$A18,'Charity Gaming'!$R:$R),2) -> 0 | L18: =ROUND(SUMIF('Private Vehicle Use'!$A:$A,$A18,'Private Vehicle Use'!$E:$E),2) -> 0 | M18: =ROUND(SUMIF('Business Income'!$A:$A,$A18,'Business Income'!$M:$M),2) -> 0 | N18: =ROUND(SUMIF('Individual Income'!$A:$A,$A18,'Individual Income'!$I:$I),2) -> 0 | O18: =ROUND(SUMIF('Automobile Renting'!$A:$A,$A18,'Automobile Renting'!$E:$E),2) -> 0 | P18: =ROUND(SUMIF('Live Adult Entertainment'!$A:$A,$A18,'Live Adult Entertainment'!$E:$E),2) -> 0 | Q18: =ROUND(SUMIF(Cannabis!$A:$A,$A18,Cannabis!$F:$F),2) -> 0 | R18: =ROUND(SUM(C18:Q18),2) -> 0
A19: 46215 | C19: =ROUND(SUMIF(Sales!$A:$A,$A19,Sales!$Z:$Z),2) -> 0 | D19: =ROUND(SUMIF('Motor Fuel'!$A:$A,$A19,'Motor Fuel'!$K:$K),2) -> 0 | E19: =ROUND(SUMIF(Cigarette!$A:$A,$A19,Cigarette!$J:$J),2) -> 0 | F19: =ROUND(SUMIF('Senior Citizen'!$A:$A,$A19,'Senior Citizen'!$E:$E),2) -> 0 | G19: =ROUND(SUMIF(Liquor!$A:$A,$A19,Liquor!$G:$G),2) -> 0 | H19: =ROUND(SUMIF('Public Utility'!$A:$A,$A19,'Public Utility'!$Q:$Q),2) -> 0 | I19: =ROUND(SUMIF(Hotel!$A:$A,$A19,Hotel!$E:$E),2) -> 0 | J19: =ROUND(SUMIF('Real Estate Transfer'!$A:$A,$A19,'Real Estate Transfer'!$F:$F),2) -> 0 | K19: =ROUND(SUMIF('Charity Gaming'!$A:$A,$A19,'Charity Gaming'!$R:$R),2) -> 0 | L19: =ROUND(SUMIF('Private Vehicle Use'!$A:$A,$A19,'Private Vehicle Use'!$E:$E),2) -> 0 | M19: =ROUND(SUMIF('Business Income'!$A:$A,$A19,'Business Income'!$M:$M),2) -> 0 | N19: =ROUND(SUMIF('Individual Income'!$A:$A,$A19,'Individual Income'!$I:$I),2) -> 0 | O19: =ROUND(SUMIF('Automobile Renting'!$A:$A,$A19,'Automobile Renting'!$E:$E),2) -> 0 | P19: =ROUND(SUMIF('Live Adult Entertainment'!$A:$A,$A19,'Live Adult Entertainment'!$E:$E),2) -> 0 | Q19: =ROUND(SUMIF(Cannabis!$A:$A,$A19,Cannabis!$F:$F),2) -> 0 | R19: =ROUND(SUM(C19:Q19),2) -> 0
... A38: 46234 | C38: =ROUND(SUMIF(Sales!$A:$A,$A38,Sales!$Z:$Z),2) -> 1.4640614e+08 | D38: =ROUND(SUMIF('Motor Fuel'!$A:$A,$A38,'Motor Fuel'!$K:$K),2) -> 1905019.6 | E38: =ROUND(SUMIF(Cigarette!$A:$A,$A38,Cigarette!$J:$J),2) -> 4142260.7 | F38: =ROUND(SUMIF('Senior Citizen'!$A:$A,$A38,'Senior Citizen'!$E:$E),2) -> 0 | G38: =ROUND(SUMIF(Liquor!$A:$A,$A38,Liquor!$G:$G),2) -> 33082.59 | H38: =ROUND(SUMIF('Public Utility'!$A:$A,$A38,'Public Utility'!$Q:$Q),2) -> 4454149.1 | I38: =ROUND(SUMIF(Hotel!$A:$A,$A38,Hotel!$E:$E),2) -> 9478005.2 | J38: =ROUND(SUMIF('Real Estate Transfer'!$A:$A,$A38,'Real Estate Transfer'!$F:$F),2) -> 0 | K38: =ROUND(SUMIF('Charity Gaming'!$A:$A,$A38,'Charity Gaming'!$R:$R),2) -> 70480.5 | L38: =ROUND(SUMIF('Private Vehicle Use'!$A:$A,$A38,'Private Vehicle Use'!$E:$E),2) -> 416447.97 | M38: =ROUND(SUMIF('Business Income'!$A:$A,$A38,'Business Income'!$M:$M),2) -> 3032479.2 | N38: =ROUND(SUMIF('Individual Income'!$A:$A,$A38,'Individual Income'!$I:$I),2) -> 65362370 | O38: =ROUND(SUMIF('Automobile Renting'!$A:$A,$A38,'Automobile Renting'!$E:$E),2) -> 1514.05 | P38: =ROUND(SUMIF('Live Adult Entertainment'!$A:$A,$A38,'Live Adult Entertainment'!$E:$E),2) -> 0 | Q38: =ROUND(SUMIF(Cannabis!$A:$A,$A38,Cannabis!$F:$F),2) -> 5281047.6 | R38: =ROUND(SUM(C38:Q38),2) -> 2.4058299e+08
C39: =ROUND(SUM(C8:C38),2) -> 2.2091311e+09 | D39: =ROUND(SUM(D8:D38),2) -> 2.54109e+08 | E39: =ROUND(SUM(E8:E38),2) -> 72309532 | F39: =ROUND(SUM(F8:F38),2) -> 383684.46 | G39: =ROUND(SUM(G8:G38),2) -> 29101875 | H39: =ROUND(SUM(H8:H38),2) -> 95153316 | I39: =ROUND(SUM(I8:I38),2) -> 72777038 | J39: =ROUND(SUM(J8:J38),2) -> 12215641 | ... R39: =ROUND(SUM(R8:R38),2) -> 5.4767822e+09
A41: 46235 | C41: =ROUND(SUMIF(Sales!$A:$A,$A41,Sales!$Z:$Z),2) -> 0 | D41: =ROUND(SUMIF('Motor Fuel'!$A:$A,$A41,'Motor Fuel'!$K:$K),2) -> 0 | E41: =ROUND(SUMIF(Cigarette!$A:$A,$A41,Cigarette!$J:$J),2) -> 0 | F41: =ROUND(SUMIF('Senior Citizen'!$A:$A,$A41,'Senior Citizen'!$E:$E),2) -> 0 | G41: =ROUND(SUMIF(Liquor!$A:$A,$A41,Liquor!$G:$G),2) -> 0 | H41: =ROUND(SUMIF('Public Utility'!$A:$A,$A41,'Public Utility'!$Q:$Q),2) -> 0 | I41: =ROUND(SUMIF(Hotel!$A:$A,$A41,Hotel!$E:$E),2) -> 0 | J41: =ROUND(SUMIF('Real Estate Transfer'!$A:$A,$A41,'Real Estate Transfer'!$F:$F),2) -> 0 | K41: =ROUND(SUMIF('Charity Gaming'!$A:$A,$A41,'Charity Gaming'!$R:$R),2) -> 0 | L41: =ROUND(SUMIF('Private Vehicle Use'!$A:$A,$A41,'Private Vehicle Use'!$E:$E),2) -> 0 | M41: =ROUND(SUMIF('Business Income'!$A:$A,$A41,'Business Income'!$M:$M),2) -> 0 | N41: =ROUND(SUMIF('Individual Income'!$A:$A,$A41,'Individual Income'!$I:$I),2) -> 0 | O41: =ROUND(SUMIF('Automobile Renting'!$A:$A,$A41,'Automobile Renting'!$E:$E),2) -> 0 | P41: =ROUND(SUMIF('Live Adult Entertainment'!$A:$A,$A41,'Live Adult Entertainment'!$E:$E),2) -> 0 | Q41: =ROUND(SUMIF(Cannabis!$A:$A,$A41,Cannabis!$F:$F),2) -> 0 | R41: =ROUND(SUM(C41:Q41),2) -> 0
A42: 46236 | C42: =ROUND(SUMIF(Sales!$A:$A,$A42,Sales!$Z:$Z),2) -> 0 | D42: =ROUND(SUMIF('Motor Fuel'!$A:$A,$A42,'Motor Fuel'!$K:$K),2) -> 0 | E42: =ROUND(SUMIF(Cigarette!$A:$A,$A42,Cigarette!$J:$J),2) -> 0 | F42: =ROUND(SUMIF('Senior Citizen'!$A:$A,$A42,'Senior Citizen'!$E:$E),2) -> 0 | G42: =ROUND(SUMIF(Liquor!$A:$A,$A42,Liquor!$G:$G),2) -> 0 | H42: =ROUND(SUMIF('Public Utility'!$A:$A,$A42,'Public Utility'!$Q:$Q),2) -> 0 | I42: =ROUND(SUMIF(Hotel!$A:$A,$A42,Hotel!$E:$E),2) -> 0 | J42: =ROUND(SUMIF('Real Estate Transfer'!$A:$A,$A42,'Real Estate Transfer'!$F:$F),2) -> 0 | K42: =ROUND(SUMIF('Charity Gaming'!$A:$A,$A42,'Charity Gaming'!$R:$R),2) -> 0 | L42: =ROUND(SUMIF('Private Vehicle Use'!$A:$A,$A42,'Private Vehicle Use'!$E:$E),2) -> 0 | M42: =ROUND(SUMIF('Business Income'!$A:$A,$A42,'Business Income'!$M:$M),2) -> 0 | N42: =ROUND(SUMIF('Individual Income'!$A:$A,$A42,'Individual Income'!$I:$I),2) -> 0 | O42: =ROUND(SUMIF('Automobile Renting'!$A:$A,$A42,'Automobile Renting'!$E:$E),2) -> 0 | P42: =ROUND(SUMIF('Live Adult Entertainment'!$A:$A,$A42,'Live Adult Entertainment'!$E:$E),2) -> 0 | Q42: =ROUND(SUMIF(Cannabis!$A:$A,$A42,Cannabis!$F:$F),2) -> 0 | R42: =ROUND(SUM(C42:Q42),2) -> 0
A43: 46237 | C43: =ROUND(SUMIF(Sales!$A:$A,$A43,Sales!$Z:$Z),2) -> 20907481 | D43: =ROUND(SUMIF('Motor Fuel'!$A:$A,$A43,'Motor Fuel'!$K:$K),2) -> 2068829.7 | E43: =ROUND(SUMIF(Cigarette!$A:$A,$A43,Cigarette!$J:$J),2) -> 886186.79 | F43: =ROUND(SUMIF('Senior Citizen'!$A:$A,$A43,'Senior Citizen'!$E:$E),2) -> 94286.7 | G43: =ROUND(SUMIF(Liquor!$A:$A,$A43,Liquor!$G:$G),2) -> 7468.45 | H43: =ROUND(SUMIF('Public Utility'!$A:$A,$A43,'Public Utility'!$Q:$Q),2) -> 363541.24 | I43: =ROUND(SUMIF(Hotel!$A:$A,$A43,Hotel!$E:$E),2) -> 1311680 | J43: =ROUND(SUMIF('Real Estate Transfer'!$A:$A,$A43,'Real Estate Transfer'!$F:$F),2) -> 23049.5 | K43: =ROUND(SUMIF('Charity Gaming'!$A:$A,$A43,'Charity Gaming'!$R:$R),2) -> 11470.35 | L43: =ROUND(SUMIF('Private Vehicle Use'!$A:$A,$A43,'Private Vehicle Use'!$E:$E),2) -> 387967.3 | M43: =ROUND(SUMIF('Business Income'!$A:$A,$A43,'Business Income'!$M:$M),2) -> 3556827.4 | N43: =ROUND(SUMIF('Individual Income'!$A:$A,$A43,'Individual Income'!$I:$I),2) -> 31282383 | O43: =ROUND(SUMIF('Automobile Renting'!$A:$A,$A43,'Automobile Renting'!$E:$E),2) -> 0 | P43: =ROUND(SUMIF('Live Adult Entertainment'!$A:$A,$A43,'Live Adult Entertainment'!$E:$E),2) -> 0 | Q43: =ROUND(SUMIF(Cannabis!$A:$A,$A43,Cannabis!$F:$F),2) -> 553718.3 | R43: =ROUND(SUM(C43:Q43),2) -> 61454890
A44: 46238 | C44: =ROUND(SUMIF(Sales!$A:$A,$A44,Sales!$Z:$Z),2) -> 19572506 | D44: =ROUND(SUMIF('Motor Fuel'!$A:$A,$A44,'Motor Fuel'!$K:$K),2) -> 4185341.1 | E44: =ROUND(SUMIF(Cigarette!$A:$A,$A44,Cigarette!$J:$J),2) -> 1388446 | F44: =ROUND(SUMIF('Senior Citizen'!$A:$A,$A44,'Senior Citizen'!$E:$E),2) -> 33168.99 | G44: =ROUND(SUMIF(Liquor!$A:$A,$A44,Liquor!$G:$G),2) -> 7859.57 | H44: =ROUND(SUMIF('Public Utility'!$A:$A,$A44,'Public Utility'!$Q:$Q),2) -> 56376.87 | I44: =ROUND(SUMIF(Hotel!$A:$A,$A44,Hotel!$E:$E),2) -> 2343907.9 | J44: =ROUND(SUMIF('Real Estate Transfer'!$A:$A,$A44,'Real Estate Transfer'!$F:$F),2) -> 172370 | K44: =ROUND(SUMIF('Charity Gaming'!$A:$A,$A44,'Charity Gaming'!$R:$R),2) -> 20375.4 | L44: =ROUND(SUMIF('Private Vehicle Use'!$A:$A,$A44,'Private Vehicle Use'!$E:$E),2) -> 457940.41 | M44: =ROUND(SUMIF('Business Income'!$A:$A,$A44,'Business Income'!$M:$M),2) -> 3569268.6 | N44: =ROUND(SUMIF('Individual Income'!$A:$A,$A44,'Individual Income'!$I:$I),2) -> 37004108 | O44: =ROUND(SUMIF('Automobile Renting'!$A:$A,$A44,'Automobile Renting'!$E:$E),2) -> 1911.14 | P44: =ROUND(SUMIF('Live Adult Entertainment'!$A:$A,$A44,'Live Adult Entertainment'!$E:$E),2) -> 0 | Q44: =ROUND(SUMIF(Cannabis!$A:$A,$A44,Cannabis!$F:$F),2) -> 943817.25 | R44: =ROUND(SUM(C44:Q44),2) -> 69757398
A45: 46239 | C45: =ROUND(SUMIF(Sales!$A:$A,$A45,Sales!$Z:$Z),2) -> 65056136 | D45: =ROUND(SUMIF('Motor Fuel'!$A:$A,$A45,'Motor Fuel'!$K:$K),2) -> 202800.29 | E45: =ROUND(SUMIF(Cigarette!$A:$A,$A45,Cigarette!$J:$J),2) -> 2653078.9 | F45: =ROUND(SUMIF('Senior Citizen'!$A:$A,$A45,'Senior Citizen'!$E:$E),2) -> 89527.26 | G45: =ROUND(SUMIF(Liquor!$A:$A,$A45,Liquor!$G:$G),2) -> 6724.81 | H45: =ROUND(SUMIF('Public Utility'!$A:$A,$A45,'Public Utility'!$Q:$Q),2) -> 118365.11 | I45: =ROUND(SUMIF(Hotel!$A:$A,$A45,Hotel!$E:$E),2) -> 207468.04 | J45: =ROUND(SUMIF('Real Estate Transfer'!$A:$A,$A45,'Real Estate Transfer'!$F:$F),2) -> 1736781.5 | K45: =ROUND(SUMIF('Charity Gaming'!$A:$A,$A45,'Charity Gaming'!$R:$R),2) -> 5947.1 | L45: =ROUND(SUMIF('Private Vehicle Use'!$A:$A,$A45,'Private Vehicle Use'!$E:$E),2) -> 202491.43 | M45: =ROUND(SUMIF('Business Income'!$A:$A,$A45,'Business Income'!$M:$M),2) -> 2888781.1 | N45: =ROUND(SUMIF('Individual Income'!$A:$A,$A45,'Individual Income'!$I:$I),2) -> 2.1952696e+08 | O45: =ROUND(SUMIF('Automobile Renting'!$A:$A,$A45,'Automobile Renting'!$E:$E),2) -> 602.25 | P45: =ROUND(SUMIF('Live Adult Entertainment'!$A:$A,$A45,'Live Adult Entertainment'!$E:$E),2) -> 0 | Q45: =ROUND(SUMIF(Cannabis!$A:$A,$A45,Cannabis!$F:$F),2) -> 138402.15 | R45: =ROUND(SUM(C45:Q45),2) -> 2.9283406e+08
A46: 46240 | C46: =ROUND(SUMIF(Sales!$A:$A,$A46,Sales!$Z:$Z),2) -> 25655655 | D46: =ROUND(SUMIF('Motor Fuel'!$A:$A,$A46,'Motor Fuel'!$K:$K),2) -> 146916.98 | E46: =ROUND(SUMIF(Cigarette!$A:$A,$A46,Cigarette!$J:$J),2) -> 1075191 | F46: =ROUND(SUMIF('Senior Citizen'!$A:$A,$A46,'Senior Citizen'!$E:$E),2) -> 0 | G46: =ROUND(SUMIF(Liquor!$A:$A,$A46,Liquor!$G:$G),2) -> 40519.57 | H46: =ROUND(SUMIF('Public Utility'!$A:$A,$A46,'Public Utility'!$Q:$Q),2) -> 9321254 | I46: =ROUND(SUMIF(Hotel!$A:$A,$A46,Hotel!$E:$E),2) -> 82738.48 | J46: =ROUND(SUMIF('Real Estate Transfer'!$A:$A,$A46,'Real Estate Transfer'!$F:$F),2) -> 1706612.5 | K46: =ROUND(SUMIF('Charity Gaming'!$A:$A,$A46,'Charity Gaming'!$R:$R),2) -> 8021.58 | L46: =ROUND(SUMIF('Private Vehicle Use'!$A:$A,$A46,'Private Vehicle Use'!$E:$E),2) -> 388709.35 | M46: =ROUND(SUMIF('Business Income'!$A:$A,$A46,'Business Income'!$M:$M),2) -> 3255068.3 | N46: =ROUND(SUMIF('Individual Income'!$A:$A,$A46,'Individual Income'!$I:$I),2) -> 2.2986113e+08 | O46: =ROUND(SUMIF('Automobile Renting'!$A:$A,$A46,'Automobile Renting'!$E:$E),2) -> 2854 | P46: =ROUND(SUMIF('Live Adult Entertainment'!$A:$A,$A46,'Live Adult Entertainment'!$E:$E),2) -> 0 | Q46: =ROUND(SUMIF(Cannabis!$A:$A,$A46,Cannabis!$F:$F),2) -> 274868.68 | R46: =ROUND(SUM(C46:Q46),2) -> 2.7181954e+08
A47: 46241 | C47: =ROUND(SUMIF(Sales!$A:$A,$A47,Sales!$Z:$Z),2) -> 2.0871792e+08 | D47: =ROUND(SUMIF('Motor Fuel'!$A:$A,$A47,'Motor Fuel'!$K:$K),2) -> 84837.47 | E47: =ROUND(SUMIF(Cigarette!$A:$A,$A47,Cigarette!$J:$J),2) -> 2168152.4 | F47: =ROUND(SUMIF('Senior Citizen'!$A:$A,$A47,'Senior Citizen'!$E:$E),2) -> 0 | G47: =ROUND(SUMIF(Liquor!$A:$A,$A47,Liquor!$G:$G),2) -> 402599.16 | H47: =ROUND(SUMIF('Public Utility'!$A:$A,$A47,'Public Utility'!$Q:$Q),2) -> 8602003.4 | I47: =ROUND(SUMIF(Hotel!$A:$A,$A47,Hotel!$E:$E),2) -> 240266.26 | J47: =ROUND(SUMIF('Real Estate Transfer'!$A:$A,$A47,'Real Estate Transfer'!$F:$F),2) -> 466871 | K47: =ROUND(SUMIF('Charity Gaming'!$A:$A,$A47,'Charity Gaming'!$R:$R),2) -> 10605.94 | L47: =ROUND(SUMIF('Private Vehicle Use'!$A:$A,$A47,'Private Vehicle Use'!$E:$E),2) -> 349274.96 | M47: =ROUND(SUMIF('Business Income'!$A:$A,$A47,'Business Income'!$M:$M),2) -> 7531063.2 | N47: =ROUND(SUMIF('Individual Income'!$A:$A,$A47,'Individual Income'!$I:$I),2) -> 31060377 | O47: =ROUND(SUMIF('Automobile Renting'!$A:$A,$A47,'Automobile Renting'!$E:$E),2) -> 117 | P47: =ROUND(SUMIF('Live Adult Entertainment'!$A:$A,$A47,'Live Adult Entertainment'!$E:$E),2) -> 0 | Q47: =ROUND(SUMIF(Cannabis!$A:$A,$A47,Cannabis!$F:$F),2) -> 4985539.3 | R47: =ROUND(SUM(C47:Q47),2) -> 2.6461963e+08
A48: 46242 | C48: =ROUND(SUMIF(Sales!$A:$A,$A48,Sales!$Z:$Z),2) -> 0 | D48: =ROUND(SUMIF('Motor Fuel'!$A:$A,$A48,'Motor Fuel'!$K:$K),2) -> 0 | E48: =ROUND(SUMIF(Cigarette!$A:$A,$A48,Cigarette!$J:$J),2) -> 0 | F48: =ROUND(SUMIF('Senior Citizen'!$A:$A,$A48,'Senior Citizen'!$E:$E),2) -> 0 | G48: =ROUND(SUMIF(Liquor!$A:$A,$A48,Liquor!$G:$G),2) -> 0 | H48: =ROUND(SUMIF('Public Utility'!$A:$A,$A48,'Public Utility'!$Q:$Q),2) -> 0 | I48: =ROUND(SUMIF(Hotel!$A:$A,$A48,Hotel!$E:$E),2) -> 0 | J48: =ROUND(SUMIF('Real Estate Transfer'!$A:$A,$A48,'Real Estate Transfer'!$F:$F),2) -> 0 | K48: =ROUND(SUMIF('Charity Gaming'!$A:$A,$A48,'Charity Gaming'!$R:$R),2) -> 0 | L48: =ROUND(SUMIF('Private Vehicle Use'!$A:$A,$A48,'Private Vehicle Use'!$E:$E),2) -> 0 | M48: =ROUND(SUMIF('Business Income'!$A:$A,$A48,'Business Income'!$M:$M),2) -> 0 | N48: =ROUND(SUMIF('Individual Income'!$A:$A,$A48,'Individual Income'!$I:$I),2) -> 0 | O48: =ROUND(SUMIF('Automobile Renting'!$A:$A,$A48,'Automobile Renting'!$E:$E),2) -> 0 | P48: =ROUND(SUMIF('Live Adult Entertainment'!$A:$A,$A48,'Live Adult Entertainment'!$E:$E),2) -> 0 | Q48: =ROUND(SUMIF(Cannabis!$A:$A,$A48,Cannabis!$F:$F),2) -> 0 | R48: =ROUND(SUM(C48:Q48),2) -> 0
A49: 46243 | C49: =ROUND(SUMIF(Sales!$A:$A,$A49,Sales!$Z:$Z),2) -> 0 | D49: =ROUND(SUMIF('Motor Fuel'!$A:$A,$A49,'Motor Fuel'!$K:$K),2) -> 0 | E49: =ROUND(SUMIF(Cigarette!$A:$A,$A49,Cigarette!$J:$J),2) -> 0 | F49: =ROUND(SUMIF('Senior Citizen'!$A:$A,$A49,'Senior Citizen'!$E:$E),2) -> 0 | G49: =ROUND(SUMIF(Liquor!$A:$A,$A49,Liquor!$G:$G),2) -> 0 | H49: =ROUND(SUMIF('Public Utility'!$A:$A,$A49,'Public Utility'!$Q:$Q),2) -> 0 | I49: =ROUND(SUMIF(Hotel!$A:$A,$A49,Hotel!$E:$E),2) -> 0 | J49: =ROUND(SUMIF('Real Estate Transfer'!$A:$A,$A49,'Real Estate Transfer'!$F:$F),2) -> 0 | K49: =ROUND(SUMIF('Charity Gaming'!$A:$A,$A49,'Charity Gaming'!$R:$R),2) -> 0 | L49: =ROUND(SUMIF('Private Vehicle Use'!$A:$A,$A49,'Private Vehicle Use'!$E:$E),2) -> 0 | M49: =ROUND(SUMIF('Business Income'!$A:$A,$A49,'Business Income'!$M:$M),2) -> 0 | N49: =ROUND(SUMIF('Individual Income'!$A:$A,$A49,'Individual Income'!$I:$I),2) -> 0 | O49: =ROUND(SUMIF('Automobile Renting'!$A:$A,$A49,'Automobile Renting'!$E:$E),2) -> 0 | P49: =ROUND(SUMIF('Live Adult Entertainment'!$A:$A,$A49,'Live Adult Entertainment'!$E:$E),2) -> 0 | Q49: =ROUND(SUMIF(Cannabis!$A:$A,$A49,Cannabis!$F:$F),2) -> 0 | R49: =ROUND(SUM(C49:Q49),2) -> 0
A50: 46244 | C50: =ROUND(SUMIF(Sales!$A:$A,$A50,Sales!$Z:$Z),2) -> 32467050 | D50: =ROUND(SUMIF('Motor Fuel'!$A:$A,$A50,'Motor Fuel'!$K:$K),2) -> 782645.07 | E50: =ROUND(SUMIF(Cigarette!$A:$A,$A50,Cigarette!$J:$J),2) -> 4464983.2 | F50: =ROUND(SUMIF('Senior Citizen'!$A:$A,$A50,'Senior Citizen'!$E:$E),2) -> 0 | G50: =ROUND(SUMIF(Liquor!$A:$A,$A50,Liquor!$G:$G),2) -> 39613.16 | H50: =ROUND(SUMIF('Public Utility'!$A:$A,$A50,'Public Utility'!$Q:$Q),2) -> 550790.01 | I50: =ROUND(SUMIF(Hotel!$A:$A,$A50,Hotel!$E:$E),2) -> 241901.95 | J50: =ROUND(SUMIF('Real Estate Transfer'!$A:$A,$A50,'Real Estate Transfer'!$F:$F),2) -> 217723 | K50: =ROUND(SUMIF('Charity Gaming'!$A:$A,$A50,'Charity Gaming'!$R:$R),2) -> 2280.56 | L50: =ROUND(SUMIF('Private Vehicle Use'!$A:$A,$A50,'Private Vehicle Use'!$E:$E),2) -> 445045.77 | M50: =ROUND(SUMIF('Business Income'!$A:$A,$A50,'Business Income'!$M:$M),2) -> 4243828.3 | N50: =ROUND(SUMIF('Individual Income'!$A:$A,$A50,'Individual Income'!$I:$I),2) -> 29401174 | O50: =ROUND(SUMIF('Automobile Renting'!$A:$A,$A50,'Automobile Renting'!$E:$E),2) -> 12239 | P50: =ROUND(SUMIF('Live Adult Entertainment'!$A:$A,$A50,'Live Adult Entertainment'!$E:$E),2) -> 0 | Q50: =ROUND(SUMIF(Cannabis!$A:$A,$A50,Cannabis!$F:$F),2) -> 566585.61 | R50: =ROUND(SUM(C50:Q50),2) -> 73435860
A51: 46245 | C51: =ROUND(SUMIF(Sales!$A:$A,$A51,Sales!$Z:$Z),2) -> 35122160 | D51: =ROUND(SUMIF('Motor Fuel'!$A:$A,$A51,'Motor Fuel'!$K:$K),2) -> 55152.52 | E51: =ROUND(SUMIF(Cigarette!$A:$A,$A51,Cigarette!$J:$J),2) -> 3911210 | F51: =ROUND(SUMIF('Senior Citizen'!$A:$A,$A51,'Senior Citizen'!$E:$E),2) -> 100897.04 | G51: =ROUND(SUMIF(Liquor!$A:$A,$A51,Liquor!$G:$G),2) -> 77085.34 | H51: =ROUND(SUMIF('Public Utility'!$A:$A,$A51,'Public Utility'!$Q:$Q),2) -> 313956.39 | I51: =ROUND(SUMIF(Hotel!$A:$A,$A51,Hotel!$E:$E),2) -> 276956.47 | J51: =ROUND(SUMIF('Real Estate Transfer'!$A:$A,$A51,'Real Estate Transfer'!$F:$F),2) -> 2679204 | K51: =ROUND(SUMIF('Charity Gaming'!$A:$A,$A51,'Charity Gaming'!$R:$R),2) -> 4167.44 | L51: =ROUND(SUMIF('Private Vehicle Use'!$A:$A,$A51,'Private Vehicle Use'!$E:$E),2) -> 424480.51 | M51: =ROUND(SUMIF('Business Income'!$A:$A,$A51,'Business Income'!$M:$M),2) -> 5155934.6 | N51: =ROUND(SUMIF('Individual Income'!$A:$A,$A51,'Individual Income'!$I:$I),2) -> 26532699 | O51: =ROUND(SUMIF('Automobile Renting'!$A:$A,$A51,'Automobile Renting'!$E:$E),2) -> 4176.86 | P51: =ROUND(SUMIF('Live Adult Entertainment'!$A:$A,$A51,'Live Adult Entertainment'!$E:$E),2) -> 0 | Q51: =ROUND(SUMIF(Cannabis!$A:$A,$A51,Cannabis!$F:$F),2) -> 1427838.6 | R51: =ROUND(SUM(C51:Q51),2) -> 76085919
A52: 46246 | C52: =ROUND(SUMIF(Sales!$A:$A,$A52,Sales!$Z:$Z),2) -> 22505846 | D52: =ROUND(SUMIF('Motor Fuel'!$A:$A,$A52,'Motor Fuel'!$K:$K),2) -> 470388.35 | E52: =ROUND(SUMIF(Cigarette!$A:$A,$A52,Cigarette!$J:$J),2) -> 1040237.4 | F52: =ROUND(SUMIF('Senior Citizen'!$A:$A,$A52,'Senior Citizen'!$E:$E),2) -> 0 | G52: =ROUND(SUMIF(Liquor!$A:$A,$A52,Liquor!$G:$G),2) -> 1811319.3 | H52: =ROUND(SUMIF('Public Utility'!$A:$A,$A52,'Public Utility'!$Q:$Q),2) -> 7694395 | I52: =ROUND(SUMIF(Hotel!$A:$A,$A52,Hotel!$E:$E),2) -> 1172377.7 | J52: =ROUND(SUMIF('Real Estate Transfer'!$A:$A,$A52,'Real Estate Transfer'!$F:$F),2) -> 364180.5 | K52: =ROUND(SUMIF('Charity Gaming'!$A:$A,$A52,'Charity Gaming'!$R:$R),2) -> 10855.73 | L52: =ROUND(SUMIF('Private Vehicle Use'!$A:$A,$A52,'Private Vehicle Use'!$E:$E),2) -> 392937.85 | M52: =ROUND(SUMIF('Business Income'!$A:$A,$A52,'Business Income'!$M:$M),2) -> 10648737 | N52: =ROUND(SUMIF('Individual Income'!$A:$A,$A52,'Individual Income'!$I:$I),2) -> 1.3104523e+08 | O52: =ROUND(SUMIF('Automobile Renting'!$A:$A,$A52,'Automobile Renting'!$E:$E),2) -> 5926 | P52: =ROUND(SUMIF('Live Adult Entertainment'!$A:$A,$A52,'Live Adult Entertainment'!$E:$E),2) -> 0 | Q52: =ROUND(SUMIF(Cannabis!$A:$A,$A52,Cannabis!$F:$F),2) -> 799789.66 | R52: =ROUND(SUM(C52:Q52),2) -> 1.7796222e+08
... A71: 46265 | C71: =ROUND(SUMIF(Sales!$A:$A,$A71,Sales!$Z:$Z),2) -> 1.5466455e+08 | D71: =ROUND(SUMIF('Motor Fuel'!$A:$A,$A71,'Motor Fuel'!$K:$K),2) -> 57171.58 | E71: =ROUND(SUMIF(Cigarette!$A:$A,$A71,Cigarette!$J:$J),2) -> 366942.78 | F71: =ROUND(SUMIF('Senior Citizen'!$A:$A,$A71,'Senior Citizen'!$E:$E),2) -> 114496.67 | G71: =ROUND(SUMIF(Liquor!$A:$A,$A71,Liquor!$G:$G),2) -> 2235.84 | H71: =ROUND(SUMIF('Public Utility'!$A:$A,$A71,'Public Utility'!$Q:$Q),2) -> 8484237.6 | I71: =ROUND(SUMIF(Hotel!$A:$A,$A71,Hotel!$E:$E),2) -> 8975720.5 | J71: =ROUND(SUMIF('Real Estate Transfer'!$A:$A,$A71,'Real Estate Transfer'!$F:$F),2) -> 0 | K71: =ROUND(SUMIF('Charity Gaming'!$A:$A,$A71,'Charity Gaming'!$R:$R),2) -> 4924.94 | L71: =ROUND(SUMIF('Private Vehicle Use'!$A:$A,$A71,'Private Vehicle Use'!$E:$E),2) -> 392036.9 | M71: =ROUND(SUMIF('Business Income'!$A:$A,$A71,'Business Income'!$M:$M),2) -> 7768825.5 | N71: =ROUND(SUMIF('Individual Income'!$A:$A,$A71,'Individual Income'!$I:$I),2) -> 65627761 | O71: =ROUND(SUMIF('Automobile Renting'!$A:$A,$A71,'Automobile Renting'!$E:$E),2) -> 0 | P71: =ROUND(SUMIF('Live Adult Entertainment'!$A:$A,$A71,'Live Adult Entertainment'!$E:$E),2) -> 0 | Q71: =ROUND(SUMIF(Cannabis!$A:$A,$A71,Cannabis!$F:$F),2) -> 5364894 | R71: =ROUND(SUM(C71:Q71),2) -> 2.518238e+08
C72: =ROUND(SUM(C41:C71),2) -> 2.1469622e+09 | D72: =ROUND(SUM(D41:D71),2) -> 2.6060743e+08 | E72: =ROUND(SUM(E41:E71),2) -> 59663304 | F72: =ROUND(SUM(F41:F71),2) -> 478327.52 | G72: =ROUND(SUM(G41:G71),2) -> 24806922 | H72: =ROUND(SUM(H41:H71),2) -> 99462660 | I72: =ROUND(SUM(I41:I71),2) -> 68040997 | J72: =ROUND(SUM(J41:J71),2) -> 13519014 | ... R72: =ROUND(SUM(R41:R71),2) -> 4.8397183e+09
A74: 46266 | C74: =ROUND(SUMIF(Sales!$A:$A,$A74,Sales!$Z:$Z),2) -> 12420548 | D74: =ROUND(SUMIF('Motor Fuel'!$A:$A,$A74,'Motor Fuel'!$K:$K),2) -> 35103.3 | E74: =ROUND(SUMIF(Cigarette!$A:$A,$A74,Cigarette!$J:$J),2) -> 4513978.1 | F74: =ROUND(SUMIF('Senior Citizen'!$A:$A,$A74,'Senior Citizen'!$E:$E),2) -> 0 | G74: =ROUND(SUMIF(Liquor!$A:$A,$A74,Liquor!$G:$G),2) -> 1001.47 | H74: =ROUND(SUMIF('Public Utility'!$A:$A,$A74,'Public Utility'!$Q:$Q),2) -> 542575.42 | I74: =ROUND(SUMIF(Hotel!$A:$A,$A74,Hotel!$E:$E),2) -> 1456640.6 | J74: =ROUND(SUMIF('Real Estate Transfer'!$A:$A,$A74,'Real Estate Transfer'!$F:$F),2) -> 11246 | K74: =ROUND(SUMIF('Charity Gaming'!$A:$A,$A74,'Charity Gaming'!$R:$R),2) -> 4169.91 | L74: =ROUND(SUMIF('Private Vehicle Use'!$A:$A,$A74,'Private Vehicle Use'!$E:$E),2) -> 460353.64 | M74: =ROUND(SUMIF('Business Income'!$A:$A,$A74,'Business Income'!$M:$M),2) -> 20775324 | N74: =ROUND(SUMIF('Individual Income'!$A:$A,$A74,'Individual Income'!$I:$I),2) -> 40089816 | O74: =ROUND(SUMIF('Automobile Renting'!$A:$A,$A74,'Automobile Renting'!$E:$E),2) -> 411.43 | P74: =ROUND(SUMIF('Live Adult Entertainment'!$A:$A,$A74,'Live Adult Entertainment'!$E:$E),2) -> 0 | Q74: =ROUND(SUMIF(Cannabis!$A:$A,$A74,Cannabis!$F:$F),2) -> 29316.12 | R74: =ROUND(SUM(C74:Q74),2) -> 80340484
A75: 46267 | C75: =ROUND(SUMIF(Sales!$A:$A,$A75,Sales!$Z:$Z),2) -> 18276298 | D75: =ROUND(SUMIF('Motor Fuel'!$A:$A,$A75,'Motor Fuel'!$K:$K),2) -> 53900.79 | E75: =ROUND(SUMIF(Cigarette!$A:$A,$A75,Cigarette!$J:$J),2) -> 2319199 | F75: =ROUND(SUMIF('Senior Citizen'!$A:$A,$A75,'Senior Citizen'!$E:$E),2) -> 642 | G75: =ROUND(SUMIF(Liquor!$A:$A,$A75,Liquor!$G:$G),2) -> 8309.97 | H75: =ROUND(SUMIF('Public Utility'!$A:$A,$A75,'Public Utility'!$Q:$Q),2) -> 111538.21 | I75: =ROUND(SUMIF(Hotel!$A:$A,$A75,Hotel!$E:$E),2) -> 1955988.8 | J75: =ROUND(SUMIF('Real Estate Transfer'!$A:$A,$A75,'Real Estate Transfer'!$F:$F),2) -> 112685.5 | K75: =ROUND(SUMIF('Charity Gaming'!$A:$A,$A75,'Charity Gaming'!$R:$R),2) -> 1639.05 | L75: =ROUND(SUMIF('Private Vehicle Use'!$A:$A,$A75,'Private Vehicle Use'!$E:$E),2) -> 462060.98 | M75: =ROUND(SUMIF('Business Income'!$A:$A,$A75,'Business Income'!$M:$M),2) -> 16604304 | N75: =ROUND(SUMIF('Individual Income'!$A:$A,$A75,'Individual Income'!$I:$I),2) -> 1.5337529e+08 | O75: =ROUND(SUMIF('Automobile Renting'!$A:$A,$A75,'Automobile Renting'!$E:$E),2) -> 2227.73 | P75: =ROUND(SUMIF('Live Adult Entertainment'!$A:$A,$A75,'Live Adult Entertainment'!$E:$E),2) -> 0 | Q75: =ROUND(SUMIF(Cannabis!$A:$A,$A75,Cannabis!$F:$F),2) -> 1055753.3 | R75: =ROUND(SUM(C75:Q75),2) -> 1.9433984e+08
A76: 46268 | C76: =ROUND(SUMIF(Sales!$A:$A,$A76,Sales!$Z:$Z),2) -> 21660124 | D76: =ROUND(SUMIF('Motor Fuel'!$A:$A,$A76,'Motor Fuel'!$K:$K),2) -> 19513.38 | E76: =ROUND(SUMIF(Cigarette!$A:$A,$A76,Cigarette!$J:$J),2) -> 1972244.8 | F76: =ROUND(SUMIF('Senior Citizen'!$A:$A,$A76,'Senior Citizen'!$E:$E),2) -> 0 | G76: =ROUND(SUMIF(Liquor!$A:$A,$A76,Liquor!$G:$G),2) -> 160958.77 | H76: =ROUND(SUMIF('Public Utility'!$A:$A,$A76,'Public Utility'!$Q:$Q),2) -> 132616.77 | I76: =ROUND(SUMIF(Hotel!$A:$A,$A76,Hotel!$E:$E),2) -> 666359.22 | J76: =ROUND(SUMIF('Real Estate Transfer'!$A:$A,$A76,'Real Estate Transfer'!$F:$F),2) -> 944069.5 | K76: =ROUND(SUMIF('Charity Gaming'!$A:$A,$A76,'Charity Gaming'!$R:$R),2) -> 7835.76 | L76: =ROUND(SUMIF('Private Vehicle Use'!$A:$A,$A76,'Private Vehicle Use'!$E:$E),2) -> 529388.03 | M76: =ROUND(SUMIF('Business Income'!$A:$A,$A76,'Business Income'!$M:$M),2) -> 34853463 | N76: =ROUND(SUMIF('Individual Income'!$A:$A,$A76,'Individual Income'!$I:$I),2) -> 1.6011039e+08 | O76: =ROUND(SUMIF('Automobile Renting'!$A:$A,$A76,'Automobile Renting'!$E:$E),2) -> 5887 | P76: =ROUND(SUMIF('Live Adult Entertainment'!$A:$A,$A76,'Live Adult Entertainment'!$E:$E),2) -> 0 | Q76: =ROUND(SUMIF(Cannabis!$A:$A,$A76,Cannabis!$F:$F),2) -> 781998.71 | R76: =ROUND(SUM(C76:Q76),2) -> 2.2184485e+08
A77: 46269 | C77: =ROUND(SUMIF(Sales!$A:$A,$A77,Sales!$Z:$Z),2) -> 28760346 | D77: =ROUND(SUMIF('Motor Fuel'!$A:$A,$A77,'Motor Fuel'!$K:$K),2) -> 39318.17 | E77: =ROUND(SUMIF(Cigarette!$A:$A,$A77,Cigarette!$J:$J),2) -> 2481571.1 | F77: =ROUND(SUMIF('Senior Citizen'!$A:$A,$A77,'Senior Citizen'!$E:$E),2) -> 0 | G77: =ROUND(SUMIF(Liquor!$A:$A,$A77,Liquor!$G:$G),2) -> 11101.25 | H77: =ROUND(SUMIF('Public Utility'!$A:$A,$A77,'Public Utility'!$Q:$Q),2) -> 8495680.3 | I77: =ROUND(SUMIF(Hotel!$A:$A,$A77,Hotel!$E:$E),2) -> 262330.96 | J77: =ROUND(SUMIF('Real Estate Transfer'!$A:$A,$A77,'Real Estate Transfer'!$F:$F),2) -> 945562.5 | K77: =ROUND(SUMIF('Charity Gaming'!$A:$A,$A77,'Charity Gaming'!$R:$R),2) -> 4715.5 | L77: =ROUND(SUMIF('Private Vehicle Use'!$A:$A,$A77,'Private Vehicle Use'!$E:$E),2) -> 307838.86 | M77: =ROUND(SUMIF('Business Income'!$A:$A,$A77,'Business Income'!$M:$M),2) -> 31050995 | N77: =ROUND(SUMIF('Individual Income'!$A:$A,$A77,'Individual Income'!$I:$I),2) -> 117087528 | O77: =ROUND(SUMIF('Automobile Renting'!$A:$A,$A77,'Automobile Renting'!$E:$E),2) -> 6722 | P77: =ROUND(SUMIF('Live Adult Entertainment'!$A:$A,$A77,'Live Adult Entertainment'!$E:$E),2) -> 0 | Q77: =ROUND(SUMIF(Cannabis!$A:$A,$A77,Cannabis!$F:$F),2) -> 92044 | R77: =ROUND(SUM(C77:Q77),2) -> 1.8954575e+08
A78: 46270 | C78: =ROUND(SUMIF(Sales!$A:$A,$A78,Sales!$Z:$Z),2) -> 0 | D78: =ROUND(SUMIF('Motor Fuel'!$A:$A,$A78,'Motor Fuel'!$K:$K),2) -> 0 | E78: =ROUND(SUMIF(Cigarette!$A:$A,$A78,Cigarette!$J:$J),2) -> 0 | F78: =ROUND(SUMIF('Senior Citizen'!$A:$A,$A78,'Senior Citizen'!$E:$E),2) -> 0 | G78: =ROUND(SUMIF(Liquor!$A:$A,$A78,Liquor!$G:$G),2) -> 0 | H78: =ROUND(SUMIF('Public Utility'!$A:$A,$A78,'Public Utility'!$Q:$Q),2) -> 0 | I78: =ROUND(SUMIF(Hotel!$A:$A,$A78,Hotel!$E:$E),2) -> 0 | J78: =ROUND(SUMIF('Real Estate Transfer'!$A:$A,$A78,'Real Estate Transfer'!$F:$F),2) -> 0 | K78: =ROUND(SUMIF('Charity Gaming'!$A:$A,$A78,'Charity Gaming'!$R:$R),2) -> 0 | L78: =ROUND(SUMIF('Private Vehicle Use'!$A:$A,$A78,'Private Vehicle Use'!$E:$E),2) -> 0 | M78: =ROUND(SUMIF('Business Income'!$A:$A,$A78,'Business Income'!$M:$M),2) -> 0 | N78: =ROUND(SUMIF('Individual Income'!$A:$A,$A78,'Individual Income'!$I:$I),2) -> 0 | O78: =ROUND(SUMIF('Automobile Renting'!$A:$A,$A78,'Automobile Renting'!$E:$E),2) -> 0 | P78: =ROUND(SUMIF('Live Adult Entertainment'!$A:$A,$A78,'Live Adult Entertainment'!$E:$E),2) -> 0 | Q78: =ROUND(SUMIF(Cannabis!$A:$A,$A78,Cannabis!$F:$F),2) -> 0 | R78: =ROUND(SUM(C78:Q78),2) -> 0
A79: 46271 | C79: =ROUND(SUMIF(Sales!$A:$A,$A79,Sales!$Z:$Z),2) -> 0 | D79: =ROUND(SUMIF('Motor Fuel'!$A:$A,$A79,'Motor Fuel'!$K:$K),2) -> 0 | E79: =ROUND(SUMIF(Cigarette!$A:$A,$A79,Cigarette!$J:$J),2) -> 0 | F79: =ROUND(SUMIF('Senior Citizen'!$A:$A,$A79,'Senior Citizen'!$E:$E),2) -> 0 | G79: =ROUND(SUMIF(Liquor!$A:$A,$A79,Liquor!$G:$G),2) -> 0 | H79: =ROUND(SUMIF('Public Utility'!$A:$A,$A79,'Public Utility'!$Q:$Q),2) -> 0 | I79: =ROUND(SUMIF(Hotel!$A:$A,$A79,Hotel!$E:$E),2) -> 0 | J79: =ROUND(SUMIF('Real Estate Transfer'!$A:$A,$A79,'Real Estate Transfer'!$F:$F),2) -> 0 | K79: =ROUND(SUMIF('Charity Gaming'!$A:$A,$A79,'Charity Gaming'!$R:$R),2) -> 0 | L79: =ROUND(SUMIF('Private Vehicle Use'!$A:$A,$A79,'Private Vehicle Use'!$E:$E),2) -> 0 | M79: =ROUND(SUMIF('Business Income'!$A:$A,$A79,'Business Income'!$M:$M),2) -> 0 | N79: =ROUND(SUMIF('Individual Income'!$A:$A,$A79,'Individual Income'!$I:$I),2) -> 0 | O79: =ROUND(SUMIF('Automobile Renting'!$A:$A,$A79,'Automobile Renting'!$E:$E),2) -> 0 | P79: =ROUND(SUMIF('Live Adult Entertainment'!$A:$A,$A79,'Live Adult Entertainment'!$E:$E),2) -> 0 | Q79: =ROUND(SUMIF(Cannabis!$A:$A,$A79,Cannabis!$F:$F),2) -> 0 | R79: =ROUND(SUM(C79:Q79),2) -> 0
A80: 46272 | C80: =ROUND(SUMIF(Sales!$A:$A,$A80,Sales!$Z:$Z),2) -> 0 | D80: =ROUND(SUMIF('Motor Fuel'!$A:$A,$A80,'Motor Fuel'!$K:$K),2) -> 0 | E80: =ROUND(SUMIF(Cigarette!$A:$A,$A80,Cigarette!$J:$J),2) -> 0 | F80: =ROUND(SUMIF('Senior Citizen'!$A:$A,$A80,'Senior Citizen'!$E:$E),2) -> 0 | G80: =ROUND(SUMIF(Liquor!$A:$A,$A80,Liquor!$G:$G),2) -> 0 | H80: =ROUND(SUMIF('Public Utility'!$A:$A,$A80,'Public Utility'!$Q:$Q),2) -> 0 | I80: =ROUND(SUMIF(Hotel!$A:$A,$A80,Hotel!$E:$E),2) -> 0 | J80: =ROUND(SUMIF('Real Estate Transfer'!$A:$A,$A80,'Real Estate Transfer'!$F:$F),2) -> 0 | K80: =ROUND(SUMIF('Charity Gaming'!$A:$A,$A80,'Charity Gaming'!$R:$R),2) -> 0 | L80: =ROUND(SUMIF('Private Vehicle Use'!$A:$A,$A80,'Private Vehicle Use'!$E:$E),2) -> 0 | M80: =ROUND(SUMIF('Business Income'!$A:$A,$A80,'Business Income'!$M:$M),2) -> 0 | N80: =ROUND(SUMIF('Individual Income'!$A:$A,$A80,'Individual Income'!$I:$I),2) -> 0 | O80: =ROUND(SUMIF('Automobile Renting'!$A:$A,$A80,'Automobile Renting'!$E:$E),2) -> 0 | P80: =ROUND(SUMIF('Live Adult Entertainment'!$A:$A,$A80,'Live Adult Entertainment'!$E:$E),2) -> 0 | Q80: =ROUND(SUMIF(Cannabis!$A:$A,$A80,Cannabis!$F:$F),2) -> 0 | R80: =ROUND(SUM(C80:Q80),2) -> 0
...

Sheet Sales
A1: ILLINOIS DEPARTMENT OF REVENUE
A2: DAILY COLLECTIONS FROM MAJOR REVENUE SOURCES
A3: FISCAL YEAR 2027
C5: SALES AND USE
A6: Date | C6: Assessments | D6: CMFT-1 County Motor Fuel Tax | E6: DS-1 Dry-Cleaning Tax | F6: DS-3 Dry-Cleaning Fee | G6: LSE-1 Vehicle Leasing Tax | H6: MC-1 Medical Cannabis Tax | I6: MMFT-1 Municipal Motor Fuel Tax | J6: PE-100 Parking Excise Tax | K6: PST-1 Prepaid Sales Tax | L6: PST-3 Prepaid Sales Tax | M6: RR-3 Sales and Use Quarter Monthly Tax | N6: RUT-25 Vehicle Use Tax | O6: RUT-25-LSE Vehicle Use Lease Tax | P6: RUT-75 Aircraft/Water Use Tax | Q6: ST-1 Sale and Use Tax | R6: ST-14 Chicago Soft Drink Tax | S6: ST-201 Rental Purchase Agrmt Tax | T6: ST-4 MPEA Food/Beverage Tax | U6: ST-44 Use Tax | V6: ST-556 Trans Sales Tax | W6: ST-556-LSE Trans Sales Lease Tax | X6: ST-70 Aviation Fuel Sales Tax | Y6: ST-8 Tire User Fee | Z6: Total
A8: 46204 | C8: 1593388.8 | D8: 5720 | E8: 0 | F8: 1500 | G8: 0 | H8: 26444 | I8: 1455.78 | J8: 132751.03 | K8: 0 | L8: 607000 | M8: 3689096.2 | N8: 1493647 | O8: 114024.31 | P8: 43463.2 | Q8: 1269326.7 | R8: 462.65 | S8: 608 | T8: 83 | U8: 30056.65 | V8: 8329708.2 | W8: 634399 | X8: 244518 | Y8: 2047.4 | Z8: =ROUND(SUM(C8:Y8),2) -> 18219700
A9: 46205 | C9: 0 | D9: 0 | E9: 0 | F9: 0 | G9: 0 | H9: 28640 | I9: 268.34 | J9: 23317.76 | K9: 93191 | L9: 2057.14 | M9: 12299414 | N9: 414331.31 | O9: 55131 | P9: 68796 | Q9: 2082795 | R9: 669.99 | S9: 72508 | T9: 1480 | U9: 0 | V9: 9448491 | W9: 518370 | X9: 22724 | Y9: 4020.77 | Z9: =ROUND(SUM(C9:Y9),2) -> 25136205
A10: 46206 | C10: 2607445.1 | D10: 0 | E10: 0 | F10: 0 | G10: 0 | H10: 0 | I10: 0 | J10: 13601.5 | K10: 136 | L10: 32588 | M10: 45206770 | N10: 1394833.2 | O10: 88058.92 | P10: 8025.76 | Q10: 3175711.5 | R10: 1333.91 | S10: 0 | T10: 9373 | U10: 216.35 | V10: 8789879.8 | W10: 615645 | X10: 179439 | Y10: 33649.2 | Z10: =ROUND(SUM(C10:Y10),2) -> 62156706
A11: 46207 | C11: 0 | D11: 0 | E11: 0 | F11: 0 | G11: 0 | H11: 0 | I11: 0 | J11: 0 | K11: 0 | L11: 0 | M11: 0 | N11: 0 | O11: 0 | P11: 0 | Q11: 0 | R11: 0 | S11: 0 | T11: 0 | U11: 0 | V11: 0 | W11: 0 | X11: 0 | Y11: 0 | Z11: =ROUND(SUM(C11:Y11),2) -> 0
A12: 46208 | C12: 0 | D12: 0 | E12: 0 | F12: 0 | G12: 0 | H12: 0 | I12: 0 | J12: 0 | K12: 0 | L12: 0 | M12: 0 | N12: 0 | O12: 0 | P12: 0 | Q12: 0 | R12: 0 | S12: 0 | T12: 0 | U12: 0 | V12: 0 | W12: 0 | X12: 0 | Y12: 0 | Z12: =ROUND(SUM(C12:Y12),2) -> 0
A13: 46209 | C13: 928305.59 | D13: 41 | E13: 0 | F13: 0 | G13: 0 | H13: 0 | I13: 1616 | J13: 37949 | K13: 0 | L13: 1087022 | M13: 24351536 | N13: 1416371.6 | O13: 103993 | P13: 77266.25 | Q13: 3356220 | R13: 843.03 | S13: 0 | T13: 8159.36 | U13: 18436.9 | V13: 11252197 | W13: 462031.26 | X13: 1969 | Y13: 16663.38 | Z13: =ROUND(SUM(C13:Y13),2) -> 43120621
A14: 46210 | C14: 843978.06 | D14: 3260 | E14: 0 | F14: 1500 | G14: 0 | H14: 137045.13 | I14: 0 | J14: 166204.09 | K14: 0 | L14: 4341758.5 | M14: 1.4963164e+08 | N14: 1756568.7 | O14: 147162.23 | P14: 26971.48 | Q14: 8610850.9 | R14: 4741 | S14: 259344 | T14: 20859 | U14: 11395.58 | V14: 6932919.6 | W14: 402810 | X14: 346862 | Y14: 35915.89 | Z14: =ROUND(SUM(C14:Y14),2) -> 1.7368179e+08
A15: 46211 | C15: 1482835.9 | D15: 176 | E15: 0 | F15: 0 | G15: 0 | H15: 19965 | I15: 0 | J15: 417139 | K15: 0 | L15: 805126 | M15: 22453022 | N15: 1523961.4 | O15: 36355.28 | P15: 36699.25 | Q15: 5788272.6 | R15: 3182.01 | S15: 114810 | T15: 15543 | U15: 1656 | V15: 8954757 | W15: 545787 | X15: 1158637 | Y15: 28180.5 | Z15: =ROUND(SUM(C15:Y15),2) -> 43386105
A16: 46212 | C16: 1045902.2 | D16: 131883 | E16: 0 | F16: 0 | G16: 0 | H16: 0 | I16: 1008 | J16: 239227 | K16: 89584 | L16: 663798 | M16: 8826943.4 | N16: 1036629.4 | O16: 79722.83 | P16: 76733.75 | Q16: 7055699.8 | R16: 2636 | S16: 0 | T16: 32288 | U16: 2862.15 | V16: 7893705.1 | W16: 417969 | X16: 864908 | Y16: 40633.37 | Z16: =ROUND(SUM(C16:Y16),2) -> 28502133
A17: 46213 | C17: 1099508 | D17: 61407 | E17: 0 | F17: 0 | G17: 0 | H17: 0 | I17: 7832 | J17: 20196.32 | K17: 4700.33 | L17: 0 | M17: 7848607.9 | N17: 1506808.2 | O17: 148433.43 | P17: 24304 | Q17: 7655517.5 | R17: 5710 | S17: 9455 | T17: 67560.76 | U17: 0 | V17: 7809956.3 | W17: 421511 | X17: 1531 | Y17: 67414.52 | Z17: =ROUND(SUM(C17:Y17),2) -> 26760453
A18: 46214 | C18: 0 | D18: 0 | E18: 0 | F18: 0 | G18: 0 | H18: 0 | I18: 0 | J18: 0 | K18: 0 | L18: 0 | M18: 0 | N18: 0 | O18: 0 | P18: 0 | Q18: 0 | R18: 0 | S18: 0 | T18: 0 | U18: 0 | V18: 0 | W18: 0 | X18: 0 | Y18: 0 | Z18: =ROUND(SUM(C18:Y18),2) -> 0
A19: 46215 | C19: 0 | D19: 0 | E19: 0 | F19: 0 | G19: 0 | H19: 0 | I19: 0 | J19: 0 | K19: 0 | L19: 0 | M19: 0 | N19: 0 | O19: 0 | P19: 0 | Q19: 0 | R19: 0 | S19: 0 | T19: 0 | U19: 0 | V19: 0 | W19: 0 | X19: 0 | Y19: 0 | Z19: =ROUND(SUM(C19:Y19),2) -> 0
... A38: 46234 | C38: 1492235.1 | D38: 0 | E38: 0 | F38: 750 | G38: 0 | H38: 79329 | I38: 0 | J38: 404651 | K38: 0 | L38: 4173459 | M38: 1.2318303e+08 | N38: 572451.62 | O38: 255472.81 | P38: 22041 | Q38: 5713467.1 | R38: 1212.42 | S38: 222578 | T38: 20819.45 | U38: -1101 | V38: 8082836.2 | W38: 402651.72 | X38: 1775360 | Y38: 4895.85 | Z38: =ROUND(SUM(C38:Y38),2) -> 1.4640614e+08
C39: =ROUND(SUM(C8:C38),2) -> 32064309 | D39: =ROUND(SUM(D8:D38),2) -> 7780181.8 | E39: =ROUND(SUM(E8:E38),2) -> 17579.24 | F39: =ROUND(SUM(F8:F38),2) -> 4500 | G39: =ROUND(SUM(G8:G38),2) -> 63871.76 | H39: =ROUND(SUM(H8:H38),2) -> 887462.65 | I39: =ROUND(SUM(I8:I38),2) -> 601052.66 | J39: =ROUND(SUM(J8:J38),2) -> 4434131.3 | ... Z39: =ROUND(SUM(Z8:Z38),2) -> 2.2091311e+09
A41: 46235 | C41: 0 | D41: 0 | E41: 0 | F41: 0 | G41: 0 | H41: 0 | I41: 0 | J41: 0 | K41: 0 | L41: 0 | M41: 0 | N41: 0 | O41: 0 | P41: 0 | Q41: 0 | R41: 0 | S41: 0 | T41: 0 | U41: 0 | V41: 0 | W41: 0 | X41: 0 | Y41: 0 | Z41: =ROUND(SUM(C41:Y41),2) -> 0
A42: 46236 | C42: 0 | D42: 0 | E42: 0 | F42: 0 | G42: 0 | H42: 0 | I42: 0 | J42: 0 | K42: 0 | L42: 0 | M42: 0 | N42: 0 | O42: 0 | P42: 0 | Q42: 0 | R42: 0 | S42: 0 | T42: 0 | U42: 0 | V42: 0 | W42: 0 | X42: 0 | Y42: 0 | Z42: =ROUND(SUM(C42:Y42),2) -> 0
A43: 46237 | C43: 2811203.4 | D43: 23576.77 | E43: 0 | F43: 0 | G43: 0 | H43: 20303 | I43: 603 | J43: 47069.32 | K43: 0 | L43: 1334694 | M43: 1651731.6 | N43: 880828.3 | O43: 189958.48 | P43: 76418.25 | Q43: 1505313.5 | R43: 1929.05 | S43: 0 | T43: 4917.31 | U43: 104994.24 | V43: 11761100 | W43: 443325 | X43: 39030 | Y43: 10486.09 | Z43: =ROUND(SUM(C43:Y43),2) -> 20907481
A44: 46238 | C44: 1579514.9 | D44: 79 | E44: 150 | F44: 0 | G44: 0 | H44: 0 | I44: 1639 | J44: 66894.67 | K44: 89584 | L44: 0 | M44: 5988678.4 | N44: 1007184.9 | O44: 539255.28 | P44: 28862.54 | Q44: 4437967.4 | R44: 6262.85 | S44: 0 | T44: 22421.72 | U44: 3849 | V44: 5287531.9 | W44: 484944 | X44: 24649 | Y44: 3037.67 | Z44: =ROUND(SUM(C44:Y44),2) -> 19572506
A45: 46239 | C45: 1106235.9 | D45: 0 | E45: 0 | F45: 1500 | G45: 0 | H45: 0 | I45: 0 | J45: 1886 | K45: 0 | L45: 73468 | M45: 51024811 | N45: 872665.67 | O45: 94800.29 | P45: 23733 | Q45: 3786853.9 | R45: 1677 | S45: 83552 | T45: 7850 | U45: 0 | V45: 7477371.1 | W45: 462350 | X45: 35985 | Y45: 1397.75 | Z45: =ROUND(SUM(C45:Y45),2) -> 65056136
A46: 46240 | C46: 2841266 | D46: 0 | E46: 0 | F46: 750 | G46: 0 | H46: 0 | I46: 0 | J46: 50069.73 | K46: 659.19 | L46: 643686 | M46: 8779335.1 | N46: 861941.1 | O46: 39041.82 | P46: 24025 | Q46: 3635179.8 | R46: 3351 | S46: 0 | T46: 14580 | U46: 22556.31 | V46: 8408780 | W46: 314758.14 | X46: 10932 | Y46: 4743.68 | Z46: =ROUND(SUM(C46:Y46),2) -> 25655655
A47: 46241 | C47: 1270397.4 | D47: 277.77 | E47: 0 | F47: 0 | G47: 0 | H47: 99702 | I47: 1731.08 | J47: 242963 | K47: 19768.92 | L47: 5774715.3 | M47: 1.8374066e+08 | N47: 1159675.9 | O47: 168165.37 | P47: 35924.02 | Q47: 5175552.5 | R47: 2857.5 | S47: 350950 | T47: 14274.31 | U47: 0 | V47: 8756244.6 | W47: 768986 | X47: 1133935 | Y47: 1140.25 | Z47: =ROUND(SUM(C47:Y47),2) -> 2.0871792e+08
A48: 46242 | C48: 0 | D48: 0 | E48: 0 | F48: 0 | G48: 0 | H48: 0 | I48: 0 | J48: 0 | K48: 0 | L48: 0 | M48: 0 | N48: 0 | O48: 0 | P48: 0 | Q48: 0 | R48: 0 | S48: 0 | T48: 0 | U48: 0 | V48: 0 | W48: 0 | X48: 0 | Y48: 0 | Z48: =ROUND(SUM(C48:Y48),2) -> 0
A49: 46243 | C49: 0 | D49: 0 | E49: 0 | F49: 0 | G49: 0 | H49: 0 | I49: 0 | J49: 0 | K49: 0 | L49: 0 | M49: 0 | N49: 0 | O49: 0 | P49: 0 | Q49: 0 | R49: 0 | S49: 0 | T49: 0 | U49: 0 | V49: 0 | W49: 0 | X49: 0 | Y49: 0 | Z49: =ROUND(SUM(C49:Y49),2) -> 0
A50: 46244 | C50: 804642 | D50: 2991 | E50: 0 | F50: 0 | G50: 55236 | H50: 8946 | I50: 1133 | J50: 556001.74 | K50: 60377.86 | L50: 412621 | M50: 11642937 | N50: 1078980.7 | O50: 231236.08 | P50: 11089.75 | Q50: 5815166.5 | R50: 3043.88 | S50: 8031 | T50: 37432 | U50: 19899 | V50: 10931760 | W50: 446362 | X50: 338353 | Y50: 810 | Z50: =ROUND(SUM(C50:Y50),2) -> 32467050
A51: 46245 | C51: 5261183.3 | D51: 6424 | E51: 0 | F51: 0 | G51: 1400 | H51: 9900 | I51: 0 | J51: 13118.92 | K51: 1680 | L51: 136614.47 | M51: 11930505 | N51: 982680.22 | O51: 72419 | P51: 20543.5 | Q51: 11333782 | R51: 9660.94 | S51: 136 | T51: 60414.29 | U51: 519 | V51: 4848433.7 | W51: 322234 | X51: 107868 | Y51: 2644 | Z51: =ROUND(SUM(C51:Y51),2) -> 35122160
A52: 46246 | C52: 1694525.4 | D52: 177956 | E52: 0 | F52: 0 | G52: 3635 | H52: 0 | I52: 22839 | J52: 129547 | K52: 27704.05 | L52: 7000 | M52: 5413551.5 | N52: 943289.78 | O52: 64199.53 | P52: 84886 | Q52: 6904732.1 | R52: 12583.09 | S52: 11601 | T52: 96715 | U52: 2465.09 | V52: 5562355.5 | W52: 707272 | X52: 637582 | Y52: 1406.68 | Z52: =ROUND(SUM(C52:Y52),2) -> 22505846
... A71: 46265 | C71: 3036339.6 | D71: 0 | E71: 0 | F71: 0 | G71: 0 | H71: 108107 | I71: 2226.8 | J71: 436540.64 | K71: 0 | L71: 5232243.9 | M71: 1.2840179e+08 | N71: 914033.35 | O71: 119939.77 | P71: 3131.74 | Q71: 2257130.4 | R71: 657.14 | S71: 338207 | T71: 4722.75 | U71: 8759.49 | V71: 11660627 | W71: 470187.41 | X71: 1669732 | Y71: 180 | Z71: =ROUND(SUM(C71:Y71),2) -> 1.5466455e+08
C72: =ROUND(SUM(C41:C71),2) -> 44835449 | D72: =ROUND(SUM(D41:D71),2) -> 8775982.5 | E72: =ROUND(SUM(E41:E71),2) -> 150 | F72: =ROUND(SUM(F41:F71),2) -> 2250 | G72: =ROUND(SUM(G41:G71),2) -> 127012 | H72: =ROUND(SUM(H41:H71),2) -> 970651.68 | I72: =ROUND(SUM(I41:I71),2) -> 636687.35 | J72: =ROUND(SUM(J41:J71),2) -> 4588997 | ... Z72: =ROUND(SUM(Z41:Z71),2) -> 2.1469622e+09
A74: 46266 | C74: 1152197.1 | D74: 0 | E74: 0 | F74: 0 | G74: 0 | H74: 0 | I74: 0 | J74: 59613.22 | K74: 0 | L74: 22314 | M74: 2993228.4 | N74: 618816.53 | O74: 178547.68 | P74: 12741 | Q74: 1220033.5 | R74: 1266.33 | S74: 0 | T74: 16458.83 | U74: 1594 | V74: 5612627.7 | W74: 531297 | X74: 0 | Y74: -187.5 | Z74: =ROUND(SUM(C74:Y74),2) -> 12420548
A75: 46267 | C75: 1569465.1 | D75: 0 | E75: 0 | F75: 0 | G75: 0 | H75: 5498.6 | I75: 0 | J75: 29489 | K75: 92656 | L75: 107623 | M75: 4448483.8 | N75: 441573.43 | O75: 53989.15 | P75: 69165 | Q75: 2124041.7 | R75: 550.45 | S75: 773 | T75: 2401.5 | U75: 642 | V75: 8461730.2 | W75: 556284 | X75: 311675 | Y75: 257.5 | Z75: =ROUND(SUM(C75:Y75),2) -> 18276298
A76: 46268 | C76: 1151210 | D76: 0 | E76: 0 | F76: 0 | G76: 0 | H76: 2488.05 | I76: 0 | J76: 23998.36 | K76: 0 | L76: 0 | M76: 7813114.6 | N76: 707525.19 | O76: 24897 | P76: 13415 | Q76: 1892736.9 | R76: 2825.99 | S76: 0 | T76: 8120.09 | U76: 0 | V76: 9360280.7 | W76: 593363 | X76: 65335 | Y76: 813.9 | Z76: =ROUND(SUM(C76:Y76),2) -> 21660124
A77: 46269 | C77: -1567054.9 | D77: 87 | E77: 0 | F77: 0 | G77: 350 | H77: 0 | I77: 0 | J77: 7192.07 | K77: 0 | L77: 33479 | M77: 18011064 | N77: 460288.1 | O77: 312161.29 | P77: 6186 | Q77: 1282900 | R77: 615.46 | S77: 68152 | T77: 2739.39 | U77: 6442 | V77: 9635710 | W77: 491264 | X77: 7874 | Y77: 896.7 | Z77: =ROUND(SUM(C77:Y77),2) -> 28760346
A78: 46270 | C78: 0 | D78: 0 | E78: 0 | F78: 0 | G78: 0 | H78: 0 | I78: 0 | J78: 0 | K78: 0 | L78: 0 | M78: 0 | N78: 0 | O78: 0 | P78: 0 | Q78: 0 | R78: 0 | S78: 0 | T78: 0 | U78: 0 | V78: 0 | W78: 0 | X78: 0 | Y78: 0 | Z78: =ROUND(SUM(C78:Y78),2) -> 0
A79: 46271 | C79: 0 | D79: 0 | E79: 0 | F79: 0 | G79: 0 | H79: 0 | I79: 0 | J79: 0 | K79: 0 | L79: 0 | M79: 0 | N79: 0 | O79: 0 | P79: 0 | Q79: 0 | R79: 0 | S79: 0 | T79: 0 | U79: 0 | V79: 0 | W79: 0 | X79: 0 | Y79: 0 | Z79: =ROUND(SUM(C79:Y79),2) -> 0
A80: 46272 | C80: 0 | D80: 0 | E80: 0 | F80: 0 | G80: 0 | H80: 0 | I80: 0 | J80: 0 | K80: 0 | L80: 0 | M80: 0 | N80: 0 | O80: 0 | P80: 0 | Q80: 0 | R80: 0 | S80: 0 | T80: 0 | U80: 0 | V80: 0 | W80: 0 | X80: 0 | Y80: 0 | Z80: =ROUND(SUM(C80:Y80),2) -> 0
...

Sheet Motor Fuel
A1: ILLINOIS DEPARTMENT OF REVENUE
A2: DAILY COLLECTIONS FROM MAJOR REVENUE SOURCES
A3: FISCAL YEAR 2027
C5: MOTOR FUEL
A6: Date | C6: Assessments | D6: IFTA Application | E6: IFTA Return | F6: IFTA Transmittals | G6: RMFT-144 Alt Fuels Tax | H6: RMFT-5 Motor Fuel Tax | I6: RMFT-5-US UST Tax | J6: Single Trip Permit | K6: Total
A8: 46204 | C8: 6445.6 | D8: 3158.75 | E8: 10214.85 | F8: 0 | G8: 0 | H8: 1351.68 | I8: 14.05 | J8: 600 | K8: =ROUND(SUM(C8:J8),2) -> 21784.93
A9: 46205 | C9: 0 | D9: 3101.5 | E9: 10454.77 | F9: 0 | G9: 0 | H9: 0 | I9: 0 | J9: 1880 | K9: =ROUND(SUM(C9:J9),2) -> 15436.27
A10: 46206 | C10: 84575.39 | D10: 2753.5 | E10: 41676.77 | F10: 0 | G10: 9070.85 | H10: 2969.14 | I10: 315.57 | J10: 640 | K10: =ROUND(SUM(C10:J10),2) -> 142001.22
A11: 46207 | C11: 0 | D11: 0 | E11: 0 | F11: 0 | G11: 0 | H11: 0 | I11: 0 | J11: 0 | K11: =ROUND(SUM(C11:J11),2) -> 0
A12: 46208 | C12: 0 | D12: 0 | E12: 0 | F12: 0 | G12: 0 | H12: 0 | I12: 0 | J12: 0 | K12: =ROUND(SUM(C12:J12),2) -> 0
A13: 46209 | C13: 26017.33 | D13: 2030 | E13: 37632.3 | F13: 0 | G13: 69.75 | H13: 4933.18 | I13: 1.1 | J13: 560 | K13: =ROUND(SUM(C13:J13),2) -> 71243.66
A14: 46210 | C14: 44138.73 | D14: -140.75 | E14: 81640.95 | F14: 0 | G14: 0 | H14: 8964.29 | I14: 196.69 | J14: 680 | K14: =ROUND(SUM(C14:J14),2) -> 135479.91
A15: 46211 | C15: 20035.07 | D15: 2959 | E15: 82251.95 | F15: 0 | G15: 78.12 | H15: 94084.44 | I15: 2445.96 | J15: 1240 | K15: =ROUND(SUM(C15:J15),2) -> 203094.54
A16: 46212 | C16: 2852.08 | D16: 2230 | E16: 135894.12 | F16: 0 | G16: 0 | H16: 18350.3 | I16: 229.15 | J16: 760 | K16: =ROUND(SUM(C16:J16),2) -> 160315.65
A17: 46213 | C17: 231.1 | D17: 1633 | E17: 96176.63 | F17: 0 | G17: 1352.59 | H17: 5313.2 | I17: 2032.68 | J17: 1120 | K17: =ROUND(SUM(C17:J17),2) -> 107859.2
A18: 46214 | C18: 0 | D18: 0 | E18: 0 | F18: 0 | G18: 0 | H18: 0 | I18: 0 | J18: 0 | K18: =ROUND(SUM(C18:J18),2) -> 0
A19: 46215 | C19: 0 | D19: 0 | E19: 0 | F19: 0 | G19: 0 | H19: 0 | I19: 0 | J19: 0 | K19: =ROUND(SUM(C19:J19),2) -> 0
... A38: 46234 | C38: 59808.56 | D38: 1319 | E38: 1478351.5 | F38: 0 | G38: 0 | H38: 356618.99 | I38: 8361.62 | J38: 560 | K38: =ROUND(SUM(C38:J38),2) -> 1905019.6
C39: =ROUND(SUM(C8:C38),2) -> 456794.38 | D39: =ROUND(SUM(D8:D38),2) -> 43092.21 | E39: =ROUND(SUM(E8:E38),2) -> 10229605 | F39: =ROUND(SUM(F8:F38),2) -> 350104.94 | G39: =ROUND(SUM(G8:G38),2) -> 569267.32 | H39: =ROUND(SUM(H8:H38),2) -> 2.3694849e+08 | I39: =ROUND(SUM(I8:I38),2) -> 5489053.8 | J39: =ROUND(SUM(J8:J38),2) -> 22600 | K39: =ROUND(SUM(K8:K38),2) -> 2.54109e+08
A41: 46235 | C41: 0 | D41: 0 | E41: 0 | F41: 0 | G41: 0 | H41: 0 | I41: 0 | J41: 0 | K41: =ROUND(SUM(C41:J41),2) -> 0
A42: 46236 | C42: 0 | D42: 0 | E42: 0 | F42: 0 | G42: 0 | H42: 0 | I42: 0 | J42: 0 | K42: =ROUND(SUM(C42:J42),2) -> 0
A43: 46237 | C43: 5176.81 | D43: 2068.5 | E43: 2028808.1 | F43: 0 | G43: 0 | H43: 31598.62 | I43: 657.63 | J43: 520 | K43: =ROUND(SUM(C43:J43),2) -> 2068829.7
A44: 46238 | C44: 12696.68 | D44: 1860.75 | E44: 4166112.6 | F44: 0 | G44: 0 | H44: 3111.03 | I44: 0 | J44: 1560 | K44: =ROUND(SUM(C44:J44),2) -> 4185341.1
A45: 46239 | C45: 23072.5 | D45: 2652.5 | E45: 173292.52 | F45: 0 | G45: 0 | H45: 3100 | I45: 2.77 | J45: 680 | K45: =ROUND(SUM(C45:J45),2) -> 202800.29
A46: 46240 | C46: 2196.63 | D46: 1091.25 | E46: 89479.62 | F46: 0 | G46: 183.03 | H46: 33745.04 | I46: 19461.41 | J46: 760 | K46: =ROUND(SUM(C46:J46),2) -> 146916.98
A47: 46241 | C47: 2553.32 | D47: 632 | E47: 70594.15 | F47: 0 | G47: 800.17 | H47: 8706.1 | I47: 271.73 | J47: 1280 | K47: =ROUND(SUM(C47:J47),2) -> 84837.47
A48: 46242 | C48: 0 | D48: 0 | E48: 0 | F48: 0 | G48: 0 | H48: 0 | I48: 0 | J48: 0 | K48: =ROUND(SUM(C48:J48),2) -> 0
A49: 46243 | C49: 0 | D49: 0 | E49: 0 | F49: 0 | G49: 0 | H49: 0 | I49: 0 | J49: 0 | K49: =ROUND(SUM(C49:J49),2) -> 0
A50: 46244 | C50: 14640.28 | D50: 1494 | E50: 66949.37 | F50: 695237.77 | G50: 0 | H50: 3401.53 | I50: 42.12 | J50: 880 | K50: =ROUND(SUM(C50:J50),2) -> 782645.07
A51: 46245 | C51: 6695.7 | D51: 1703.75 | E51: 42093.07 | F51: 0 | G51: 0 | H51: 3100 | I51: 0 | J51: 1560 | K51: =ROUND(SUM(C51:J51),2) -> 55152.52
